BEGIN:VCALENDAR
PRODID:NingEventWidget-v1
VERSION:2.0
METHOD:PUBLISH
BEGIN:VTIMEZONE
TZID:Europe/Athens
X-LIC-LOCATION:Europe/Athens
BEGIN:DAYLIGHT
TZOFFSETFROM:+0200
TZOFFSETTO:+0300
TZNAME:EEST
DTSTART:19700329T030000
RRULE:FREQ=YEARLY;BYMONTH=3;BYDAY=-1SU
END:DAYLIGHT
BEGIN:STANDARD
TZOFFSETFROM:+0300
TZOFFSETTO:+0200
TZNAME:EET
DTSTART:19701025T040000
RRULE:FREQ=YEARLY;BYMONTH=10;BYDAY=-1SU
END:STANDARD
END:VTIMEZONE
BEGIN:VEVENT
UID:1982923:Event:110582
DTSTAMP:20260420T094308Z
SUMMARY:«George Harrison: Living in the Material World»
DESCRIPTION:Το μουσικό ντοκιμαντέρ «George Harris
 on: Living in the Material World» προβάλλεται στα πλ
 ίσια των εκδηλώσεων \"Νύχτες Πρεμιέρα
 \", την Κυριακή 25 Σεπτεμβρίου, στις 16:00 
 τον κινηματογράφο Απόλλων Cinemax Class.\nΟλ
 α όσα θέλετε να μάθετε για τον Τζορτζ α
 πό τους Beatles. Μετά τα «The Last Waltz» για του
  The Band, «No Direction Home» για τον Μπομπ Ντίλα
  και το «Shine A Light» για τους Rolling Stones, o οσ
 καρικός Μάρτιν Σκορσέζε επιστρέφει με
  μια ταινία για τη ζωή και το έργο του Τ
 ζορτζ Χάρισον, ενός από τους πιο επιτυ
 ημένους κιθαρίστες και τραγουδοποιού
 ς όλων των εποχών. Το «George Harrison: Living In The
  Material World» είναι το ντοκιμαντέρ που ενδ
 οσκοπεί σε όλες τις περιόδους της ζωής
  του ταλαντούχου καλλιτέχνη, απ’ τα πρ
 ώτα βήματά του στο Λίβερπουλ της Αγγλί
 ας μέχρι το χρονικό της θητείας του στ
 υς Beatles και απ’ την μετέπειτα σόλο επι
 τυχία του μέχρι την προσπάθειά του να 
 υμβιβάσει τον υλικό κόσμο με τον πνευ
 ατικό. Μια προσωποκεντρική ταινία με 
 πάνιες φωτογραφίες και βίντεο που δεν
  έχουν ξαναδημοσιευτεί, ανέκδοτα τραγ
 ύδια του πρώην Σκαθαριού και σπάνιο υ
 ικό και συνεντεύξεις με τους Πολ ΜακKά
 ρτνεϊ, Ρίνγκο Σταρ, Γιόκο Ονο, Ερικ Κλά
 τον, Τέρι Γκίλιαμ και πολλούς άλλους, 
 ο «George Harrison: Living In The Material World» είναι μι
  μουσική βιογραφία που θεωρείται ήδη 
 λασσική.\n\n \n\nFor more information visit https://blues.gr/
 events/george-harrison-living-in-the-material-world
DTSTART;TZID=Europe/Athens:20110925T160000
DTEND;TZID=Europe/Athens:20110925T180000
CATEGORIES:film, event
LOCATION:Απόλλων Cinemax Class
WEBSITE:http://nyxtespremieras.wordpress.com
URL:http://nyxtespremieras.wordpress.com
CONTACT:210-3236811,  210-3252817
ORGANIZER:17ο Διεθνές Φεστιβάλ Κινηματογρά
 ου Αθήνας Νύχτες Πρεμιέρας Conn-x.
ATTACH;FMTTYPE="image/jpeg":http://storage.ning.com/topology/rest/1.0/
 file/get/2252954581?profile=original
ATTENDEE;ROLE=REQ-PARTICIPANT;PARTSTAT=ACCEPTED;RSVP=TRUE;CN="Music Ne
 twork by Michael Limnios":https://blues.gr/profile/MichalisLimnios
END:VEVENT
END:VCALENDAR
