BEGIN:VCALENDAR
PRODID:NingEventWidget-v1
VERSION:2.0
METHOD:PUBLISH
BEGIN:VTIMEZONE
TZID:Europe/Athens
X-LIC-LOCATION:Europe/Athens
BEGIN:DAYLIGHT
TZOFFSETFROM:+0200
TZOFFSETTO:+0300
TZNAME:EEST
DTSTART:19700329T030000
RRULE:FREQ=YEARLY;BYMONTH=3;BYDAY=-1SU
END:DAYLIGHT
BEGIN:STANDARD
TZOFFSETFROM:+0300
TZOFFSETTO:+0200
TZNAME:EET
DTSTART:19701025T040000
RRULE:FREQ=YEARLY;BYMONTH=10;BYDAY=-1SU
END:STANDARD
END:VTIMEZONE
BEGIN:VEVENT
UID:1982923:Event:150920
DTSTAMP:20260422T065147Z
SUMMARY:George & the Dukes και The Boogie Sinners ζωντανά σ
 το Κοτύλιο Αρκαδίας!
DESCRIPTION:Οι George & the Dukes και οι Boogie Sinners για 
 πρώτη φορά μαζί στο Κοτύλιο Αρκαδίας σ
 τις 18 Αυγούστου με πολύ μπλουζ διαθέσε
 ις θα έρθουν να δώσουν δυνατό ηλεκτρικ
 ό live!!\nΕπικοινωνία:mobile phone 6986321546 - 6946272928
  Email:kallisto.caffe@gmail.com. Για τους φίλους του 
 λεύθερου camping θα υπάρχει χώρος διαθέσ
 μος απο την Παρασκευή 17/8/12 μέχρι Κυρια
 κή 19/8/12.\n\nFor more information visit https://blues.gr/events/ge
 orge-the-dukes-the-boogie-sinners
DTSTART;TZID=Europe/Athens:20120818T000000
DTEND;TZID=Europe/Athens:20120818T235900
CATEGORIES:gig
LOCATION:ΚΟΤΥΛΙΟ ΑΡΚΑΔΙΑΣ
WEBSITE:
URL:
CONTACT:6986321546 - 6946272928
ORGANIZER;CN="The Boogie Sinners":https://blues.gr/profile/TheBoogieSi
 nners
ATTACH;FMTTYPE="image/jpeg":http://storage.ning.com/topology/rest/1.0/
 file/get/2252990624?profile=original
ATTENDEE;ROLE=REQ-PARTICIPANT;PARTSTAT=ACCEPTED;RSVP=TRUE;CN="The Boog
 ie Sinners":https://blues.gr/profile/TheBoogieSinners
ATTENDEE;ROLE=REQ-PARTICIPANT;PARTSTAT=ACCEPTED;RSVP=TRUE;CN="Kostas A
 ntonopoulos":https://blues.gr/profile/KostasAntonopoulos
END:VEVENT
END:VCALENDAR
