BEGIN:VCALENDAR
PRODID:NingEventWidget-v1
VERSION:2.0
METHOD:PUBLISH
BEGIN:VTIMEZONE
TZID:Europe/Athens
X-LIC-LOCATION:Europe/Athens
BEGIN:DAYLIGHT
TZOFFSETFROM:+0200
TZOFFSETTO:+0300
TZNAME:EEST
DTSTART:19700329T030000
RRULE:FREQ=YEARLY;BYMONTH=3;BYDAY=-1SU
END:DAYLIGHT
BEGIN:STANDARD
TZOFFSETFROM:+0300
TZOFFSETTO:+0200
TZNAME:EET
DTSTART:19701025T040000
RRULE:FREQ=YEARLY;BYMONTH=10;BYDAY=-1SU
END:STANDARD
END:VTIMEZONE
BEGIN:VEVENT
UID:1982923:Event:21736
DTSTAMP:20260425T061449Z
SUMMARY:George & the Dukes w/ Muddy Roads Live 29/3 @ Lazy Club
DESCRIPTION:George & the Dukes unstoppable blues band Live this Sunday
  29/3 at Lazy Club with opening band Muddy Roads.\nFor a night full of
  Blues and feeling. If you have the blues in your heart don't miss thi
 s!\n\nGeorge & the Dukes are :\nGeorge Hatzopoulos : Guitars/Vox\nDimi
 tris Metaxas : Bass\nGiannis Hristopoulos : Drums\n\n\nOpening Band\n\
 nMuddy Roads are :\nPanos Poulizos : Guitars/Vox/harmonica\nNikos Asim
 enios : Guitars\nTitos Matsakos : Bass\nPetros Matsakos : Drums\n\n\n\
 n\nFor more information visit https://blues.gr/events/george-the-dukes
 -w-muddy
DTSTART;TZID=Europe/Athens:20090329T220000
DTEND;TZID=Europe/Athens:20090330T020000
CATEGORIES:live
LOCATION:Lazy Club
WEBSITE:http://www.lazy.gr
URL:http://www.lazy.gr
CONTACT:
ORGANIZER:Lazy Club
ATTACH;FMTTYPE="image/jpeg":http://storage.ning.com/topology/rest/1.0/
 file/get/2252937512?profile=original
ATTENDEE;ROLE=REQ-PARTICIPANT;PARTSTAT=ACCEPTED;RSVP=TRUE;CN=Panos:htt
 ps://blues.gr/profile/Panos
ATTENDEE;ROLE=REQ-PARTICIPANT;PARTSTAT=ACCEPTED;RSVP=TRUE;CN="Petros M
 atsakos":https://blues.gr/profile/PetrosMatsakos
END:VEVENT
END:VCALENDAR
