BEGIN:VCALENDAR
PRODID:NingEventWidget-v1
VERSION:2.0
METHOD:PUBLISH
BEGIN:VTIMEZONE
TZID:Europe/Athens
X-LIC-LOCATION:Europe/Athens
BEGIN:DAYLIGHT
TZOFFSETFROM:+0200
TZOFFSETTO:+0300
TZNAME:EEST
DTSTART:19700329T030000
RRULE:FREQ=YEARLY;BYMONTH=3;BYDAY=-1SU
END:DAYLIGHT
BEGIN:STANDARD
TZOFFSETFROM:+0300
TZOFFSETTO:+0200
TZNAME:EET
DTSTART:19701025T040000
RRULE:FREQ=YEARLY;BYMONTH=10;BYDAY=-1SU
END:STANDARD
END:VTIMEZONE
BEGIN:VEVENT
UID:1982923:Event:492299
DTSTAMP:20260421T132245Z
SUMMARY:GERARD MALANGA
DESCRIPTION:\r\nWEDNESDAY OCTOBER 9 @ 7PM\r\nWelcome to an evening wi
 th New Yorker/ poet/ photographer/ filmmaker/ Warhol Factory Superstar
 : GERARD MALANGA at Hôtel Grand Amour.\r\n Gerard will give a poetry
  reading & show his film Gerard Malanga's Notebooks, which includes ex
 clusive material mostly filmed at The Factory during the 60s.\r\nThis 
 evening is also the opening for an exhibition of selected photographs 
 from Gerard's catalogue, which will continue until the 13th of October
 .\r\n\r\nGerard Malanga was elected Chevalier of Arts & Letters in Fra
 nce through the Ministry of Culture in 2023 and this will be his first
  visit to Paris since receiving this great honor. We hope to see you t
 here to celebrate it together.\r\n\r\nPlease RSVP if you want to atten
 d, since the venue is limited to 120 people & show up on time for the 
 event to make sure to keep your place.\r\nheylovelovemagazine@gmail.co
 m\r\n\r\n\r\n\n\nFor more information visit https://blues.gr/events/ge
 rard-malanga
DTSTART;TZID=Europe/Athens:20241009T180000
DTEND;TZID=Europe/Athens:20241013T190000
CATEGORIES:art, photography
LOCATION:Hôtel Grand Amour.
WEBSITE:
URL:
CONTACT:
ORGANIZER:
ATTACH;FMTTYPE="image/jpeg":https://storage.ning.com/topology/rest/1.0
 /file/get/12934171069?profile=original
ATTENDEE;ROLE=REQ-PARTICIPANT;PARTSTAT=ACCEPTED;RSVP=TRUE;CN="Music Ne
 twork by Michael Limnios":https://blues.gr/profile/MichalisLimnios
END:VEVENT
END:VCALENDAR
