BEGIN:VCALENDAR
PRODID:NingEventWidget-v1
VERSION:2.0
METHOD:PUBLISH
BEGIN:VTIMEZONE
TZID:Europe/Athens
X-LIC-LOCATION:Europe/Athens
BEGIN:DAYLIGHT
TZOFFSETFROM:+0200
TZOFFSETTO:+0300
TZNAME:EEST
DTSTART:19700329T030000
RRULE:FREQ=YEARLY;BYMONTH=3;BYDAY=-1SU
END:DAYLIGHT
BEGIN:STANDARD
TZOFFSETFROM:+0300
TZOFFSETTO:+0200
TZNAME:EET
DTSTART:19701025T040000
RRULE:FREQ=YEARLY;BYMONTH=10;BYDAY=-1SU
END:STANDARD
END:VTIMEZONE
BEGIN:VEVENT
UID:1982923:Event:494115
DTSTAMP:20260421T115241Z
SUMMARY:GERRY McAVOY’S BAND OF FRIENDS (Original band of Rory Gallag
 her) ft Two
DESCRIPTION:\r\nRockin’ The Blues Events παρουσιάζει:\r\n
 RORY GALLAGHER\r\nGERRY McAVOY’S BAND OF FRIENDS (Original band of R
 ory Gallagher) Live at Gagarin ft Daddy’s Work Blues Band\r\nGERRY M
 cAVOY (Bass) Ο πλέον αναγνωρισμένος συμπαίκ
 της και φίλος του Rory παρών σε ΟΛΕΣ τις 
 χογραφήσεις, σε ΟΛΕΣ τις περιοδείες, σ
 ε ΟΛΑ τα άλμπουμ του από το 1971 έως το 1991
  (και φυσικά παρών στο live-σταθμό στη Ν. 
 ιλαδέλφεια το 1981).\r\nBRENDAN O’NEILL (Drums) O μα
 ροβιότερος ντράμερ του Rory, όπου ήταν π
 αρών στο επεισοδιακό και αξέχαστο live τ
 ης Νέας Φιλαδέλφειας, το οποίο κατόπιν
  χαρακτήρισε δημόσια ως «To Highlight της 10χ
 ρονης πορείας μου στο πλευρό του Rory»! Ο
  Ιρλανδός βιρτουόζος, ο οποίος διαδέχθ
 ηκε τον Ted McKenna, έδωσε ρυθμό στα “JINX” (19
 81), “DEFENDER” (1987), “FRESH EVIDENCE” (1991) και πήρ
  μέρος σε πολλές παγκόσμιες περιοδείε
 ς του Rory πριν ακολουθήσει τους καταξιω
 μένους Nine Below Zero.\r\nJIM KIRKPATRICK (Guitar/Vocals) Θε
 ρείται από τους καλύτερους slide, blues rock 
 ιθαρίστες της γενιάς του.Mε προσωπική 
 δισκογραφία και ήταν lead guitarist των Βρετ
 νών FM, περιοδεύοντας μαζί με τους Thin Liz
 zy, Journey, Whitesnake, Foreigner, Kiss κλπ!\r\nDAVID COWAN (Keybo
 ards) Σπούδασε μουσική στο Πανεπιστήμιο 
 της Γλασκώβης , μαθητής του γνωστού κα
  αγαπημενού μας Ted McKenna, με 30 χρόνια εμπ
 ειρίας και συναυλιών δίπλα σε διάσημο
 ς μουσικούς της παγκόσμιας ροκ και μπ
 ουζ μουσικής σκηνής.\r\n\r\nΜαζί τους στo 
 Eightball\r\nΟι ΤWO, το δυναμικό και ξεχωριστ
  ντουέτο των Νίκου Ντουνούση και Βασί
 η Παπαδόπουλου θα μας ταξιδέψουν με τ
 ν άριστη κιθαριστική και φωνητική του
 ς ικανότητα σε μελωδίες της blues και rock 
 κηνής!\r\n\n\nFor more information visit https://blues.gr/events
 /gerry-mcavoy-s-band-of-friends-original-band-of-rory-gallagher
DTSTART;TZID=Europe/Athens:20260208T000000
DTEND;TZID=Europe/Athens:20260208T235900
CATEGORIES:rock, blues
LOCATION:Eightball
WEBSITE:https://www.more.com/gr-el/tickets/music/rory-gallagher-band-o
 f-friends-eightball
URL:https://www.more.com/gr-el/tickets/music/rory-gallagher-band-of-fr
 iends-eightball
CONTACT:
ORGANIZER:Rockin’ The Blues Event
ATTACH;FMTTYPE="image/jpeg":https://storage.ning.com/topology/rest/1.0
 /file/get/13758592092?profile=original
ATTENDEE;ROLE=REQ-PARTICIPANT;PARTSTAT=ACCEPTED;RSVP=TRUE;CN="Music Ne
 twork by Michael Limnios":https://blues.gr/profile/MichalisLimnios
END:VEVENT
END:VCALENDAR
