BEGIN:VCALENDAR
PRODID:NingEventWidget-v1
VERSION:2.0
METHOD:PUBLISH
BEGIN:VTIMEZONE
TZID:Europe/Athens
X-LIC-LOCATION:Europe/Athens
BEGIN:DAYLIGHT
TZOFFSETFROM:+0200
TZOFFSETTO:+0300
TZNAME:EEST
DTSTART:19700329T030000
RRULE:FREQ=YEARLY;BYMONTH=3;BYDAY=-1SU
END:DAYLIGHT
BEGIN:STANDARD
TZOFFSETFROM:+0300
TZOFFSETTO:+0200
TZNAME:EET
DTSTART:19701025T040000
RRULE:FREQ=YEARLY;BYMONTH=10;BYDAY=-1SU
END:STANDARD
END:VTIMEZONE
BEGIN:VEVENT
UID:1982923:Event:165325
DTSTAMP:20260425T054338Z
SUMMARY:Ginsberg’s FIRST BLUES @  New York
DESCRIPTION:FIRST BLUES:\nRags, Ballads, Harmonium Songs, Chanteys & C
 ome-All-Ye’s\nGinsberg Recordings (a collaboration of Ginsberg’s E
 state and Esther Creative Group), Housing Works, VitaCoco, and Warb
 y Parker are hosting a musical soiree to celebrate a vinyl and digita
 l reissue of Ginsberg’s FIRST BLUES. The work was originally releas
 ed as a double LP back in 1983, and as a CD in 2006.  Produced by leg
 end John Hammond Sr., this record of songs is a collection of studio s
 essions from 1971, 1976, and 1981 and included the likes of Bob Dylan,
  Arthur Russell, David Mansfield, Happy Traum, David Amram, Steven Tay
 lor and Peter Orlovksy. To commemorate this reissue, a limited run of
  500 seven track vinyl that mimics the original style down to the news
 paper insert will be available that night and online.\nJoin Allen Gins
 berg's friends, collaborators, relatives and co-conspirators Anne Wal
 dman, Ambrose Bye, CA Conrad, Steven Taylor, Hettie Jones, Arthur's La
 nding and others for a night of poetry and songs in one of New York's
  quintessential spaces to breathe new life into First Blues in 2013.
 \n\nVita Coco is a proud supporter of Housing Works and happily dona
 te our all-natural, never from concentrate premium coconut water to he
 lp raise funds for the benefit of the community of people living with 
 and affected by HIV/AIDS.\nWarby Parker is kindly donating at $95 gif
 t certificate which will be raffled off. Anyone who buys a copy of Fi
 rst Blues will get a raffle ticket, and additional tickets will be av
 ailable for $1 each, with all proceeds going to Housing Works.\n\nFor
  more information visit https://blues.gr/events/ginsberg-s-first-blues
 -new-york
DTSTART;TZID=Europe/Athens:20130116T000000
DTEND;TZID=Europe/Athens:20130116T235900
CATEGORIES:blues, jazz, spoken
LOCATION:Housing Works Bookstore Cafe
WEBSITE:http://ginsbergblog.blogspot.gr/
URL:http://ginsbergblog.blogspot.gr/
CONTACT:212-334-3324
ORGANIZER:Ginsberg Recordings, Housing Works, VitaCoco, and Warby Park
 er
ATTACH;FMTTYPE="image/jpeg":http://storage.ning.com/topology/rest/1.0/
 file/get/2253001454?profile=original
ATTENDEE;ROLE=REQ-PARTICIPANT;PARTSTAT=ACCEPTED;RSVP=TRUE;CN="Music Ne
 twork by Michael Limnios":https://blues.gr/profile/MichalisLimnios
END:VEVENT
END:VCALENDAR
