BEGIN:VCALENDAR
PRODID:NingEventWidget-v1
VERSION:2.0
METHOD:PUBLISH
BEGIN:VTIMEZONE
TZID:Europe/Athens
X-LIC-LOCATION:Europe/Athens
BEGIN:DAYLIGHT
TZOFFSETFROM:+0200
TZOFFSETTO:+0300
TZNAME:EEST
DTSTART:19700329T030000
RRULE:FREQ=YEARLY;BYMONTH=3;BYDAY=-1SU
END:DAYLIGHT
BEGIN:STANDARD
TZOFFSETFROM:+0300
TZOFFSETTO:+0200
TZNAME:EET
DTSTART:19701025T040000
RRULE:FREQ=YEARLY;BYMONTH=10;BYDAY=-1SU
END:STANDARD
END:VTIMEZONE
BEGIN:VEVENT
UID:1982923:Event:113528
DTSTAMP:20260420T041754Z
SUMMARY:Gizelle Smith
DESCRIPTION:The golden girl of funk. Αυτός είναι ο χαρα
 κτηρισμός που κέρδισε η Gizelle Smith μόλις 
 κανε την εμφάνιση της στη funk μουσική σ
 κηνή του Λονδίνου πριν από τρία χρόνια
 , ως η τραγουδίστρια των The Mighty Mocambos. Το 
 πρώτο single τους «Workin Woman» έγινε γρήγορα 
 επιτυχία και ακουγόταν στα μεγαλύτερα
  κλαμπ παγκοσμίως.  Σύντομα, κυκλόφορη
 σε και ο πρώτος δίσκος τους «Τhis is Gizelle S
 mith and the Mighty Mocambos». Με αστραφτερά πνευστ
 ά, soulful κιθάρες και δυναμικούς ρυθμούς,
  συνδυασμένουςμε τη μοναδική φωνή της 
 Gizelle, το άλμπουμ τους έχει βαθιές ρίζες
  στη χρυσή εποχή της soul και ταυτόχρονα 
 πρόκειται για ένα σύγχρονο αριστούργη
 μα. Ακολούθησε περιοδεία σε όλη την Ευ
 ώπη και η Gizelle Smith ξεχώρισε για τον δυν
 μισμό και τη γοητεία της.Τώρα, η Gizelle Smi
 th, που έχουν γράψει για αυτήν ότι ακούγ
 εται σαν να συναντά η Betty Davis την Beyonce, δ
 υλεύει στο δικό της υλικό. Ήδη, έχει κυ
 κλοφορήσει το single “June” , ένα funk αριστο
 ύργημα προορισμένο να κατακτήσει τα μ
 γαλύτερα club. Η Gizelle smith ανήκει στο παρό
  και στο μέλλον της funk. Με φωνή και εκφ
 αστικό πάθος που κυριαρχεί πάνω στις 
 νήμες του παρελθόντος, στέλνοντας ατό
 φιο συναίσθημα στο σημερινό μας ηχητι
 ό περιβάλλον…\"Stepping away from the obvious, but strid
 ing ever closer to my roots\", όπως λέει η ίδια.\n \n\n\
 n \nΗΜΕΡΕΣ ΚΑΙ ΩΡΕΣ ΠΑΡΑΣΤΑΣΕΩΝ:\nΤετάρ
 η έως Σάββατο ώρα έναρξης 22:30,\nΚάθε Κυ
 ιακή ώρα έναρξης στις 21:00\n\nFor more information
  visit https://blues.gr/events/gizelle-smith
DTSTART;TZID=Europe/Athens:20111012T000000
DTEND;TZID=Europe/Athens:20111016T235900
CATEGORIES:live
LOCATION:HALF NOTE
WEBSITE:http://www.halfnote.gr
URL:http://www.halfnote.gr
CONTACT:+302109213360
ORGANIZER:Half Note Jazz Club
ATTACH;FMTTYPE="image/jpeg":http://storage.ning.com/topology/rest/1.0/
 file/get/2252956635?profile=original
ATTENDEE;ROLE=REQ-PARTICIPANT;PARTSTAT=ACCEPTED;RSVP=TRUE;CN="Music Ne
 twork by Michael Limnios":https://blues.gr/profile/MichalisLimnios
END:VEVENT
END:VCALENDAR
