BEGIN:VCALENDAR
PRODID:NingEventWidget-v1
VERSION:2.0
METHOD:PUBLISH
BEGIN:VTIMEZONE
TZID:Europe/Athens
X-LIC-LOCATION:Europe/Athens
BEGIN:DAYLIGHT
TZOFFSETFROM:+0200
TZOFFSETTO:+0300
TZNAME:EEST
DTSTART:19700329T030000
RRULE:FREQ=YEARLY;BYMONTH=3;BYDAY=-1SU
END:DAYLIGHT
BEGIN:STANDARD
TZOFFSETFROM:+0300
TZOFFSETTO:+0200
TZNAME:EET
DTSTART:19701025T040000
RRULE:FREQ=YEARLY;BYMONTH=10;BYDAY=-1SU
END:STANDARD
END:VTIMEZONE
BEGIN:VEVENT
UID:1982923:Event:257091
DTSTAMP:20260421T212903Z
SUMMARY:Goblin
DESCRIPTION:Είναι ελάχιστες οι φορές που έν
  συγκρότημα σαν τους Goblin επισκέπτεται
  την Ελλάδα!!! Οι Ιταλοί progsters, ξεκίνησα
  την καριέρα τους εν έτη 1973, ως ένα συγ
 ρότημα progressive rock, με επιρροές από Yes, King
  Crimson, Emerson Lake & Palmer, Genesis και Gentle Giant.\nΤα li
 ve set των GOBLIN, είναι άκρως επαγγελματικά
 , ποιοτικά και χορταστικά, αντάξια της 
 φήμης τους και εγγυώνται τη δημιουργί
  εκπληκτικής ατμόσφαιρας, που δύσκολα
  συναντάμε σε συναυλίες!!!\n\nFor more information
  visit https://blues.gr/events/goblin
DTSTART;TZID=Europe/Athens:20170612T000000
DTEND;TZID=Europe/Athens:20170612T235900
CATEGORIES:rock, live
LOCATION:Κύτταρο
WEBSITE:
URL:
CONTACT:
ORGANIZER:Kyttaro
ATTACH;FMTTYPE="image/jpeg":http://storage.ning.com/topology/rest/1.0/
 file/get/2253055151?profile=original
ATTENDEE;ROLE=REQ-PARTICIPANT;PARTSTAT=ACCEPTED;RSVP=TRUE;CN="Music Ne
 twork by Michael Limnios":https://blues.gr/profile/MichalisLimnios
END:VEVENT
END:VCALENDAR
