BEGIN:VCALENDAR
PRODID:NingEventWidget-v1
VERSION:2.0
METHOD:PUBLISH
BEGIN:VTIMEZONE
TZID:Europe/Athens
X-LIC-LOCATION:Europe/Athens
BEGIN:DAYLIGHT
TZOFFSETFROM:+0200
TZOFFSETTO:+0300
TZNAME:EEST
DTSTART:19700329T030000
RRULE:FREQ=YEARLY;BYMONTH=3;BYDAY=-1SU
END:DAYLIGHT
BEGIN:STANDARD
TZOFFSETFROM:+0300
TZOFFSETTO:+0200
TZNAME:EET
DTSTART:19701025T040000
RRULE:FREQ=YEARLY;BYMONTH=10;BYDAY=-1SU
END:STANDARD
END:VTIMEZONE
BEGIN:VEVENT
UID:1982923:Event:16581
DTSTAMP:20260425T052004Z
SUMMARY:Got The Blues SenSessions
DESCRIPTION:Every Thursday at Louki Bar we've Got The Blues SenSession
 s with very rare & very popular versions from all blues stuff range.On
  the decks the thunderbird of the bluesessions dj Drummatic Style.Got 
 To Be There!!!\n\nFor more information visit https://blues.gr/events/g
 ot-the-blues-sensessions-1
DTSTART;TZID=Europe/Athens:20090205T213000
DTEND;TZID=Europe/Athens:20090206T030000
CATEGORIES:dj, bluesessions
LOCATION:Louki Bar (Or Barlouki)
WEBSITE:
URL:
CONTACT:26910-60808
ORGANIZER:Got The BlueSenSessions
ATTACH;FMTTYPE="image/jpeg":http://storage.ning.com/topology/rest/1.0/
 file/get/2189582916?profile=original
ATTENDEE;ROLE=REQ-PARTICIPANT;PARTSTAT=ACCEPTED;RSVP=TRUE;CN="Drummati
 c Style":https://blues.gr/profile/style
END:VEVENT
END:VCALENDAR
