BEGIN:VCALENDAR
PRODID:NingEventWidget-v1
VERSION:2.0
METHOD:PUBLISH
BEGIN:VTIMEZONE
TZID:Europe/Athens
X-LIC-LOCATION:Europe/Athens
BEGIN:DAYLIGHT
TZOFFSETFROM:+0200
TZOFFSETTO:+0300
TZNAME:EEST
DTSTART:19700329T030000
RRULE:FREQ=YEARLY;BYMONTH=3;BYDAY=-1SU
END:DAYLIGHT
BEGIN:STANDARD
TZOFFSETFROM:+0300
TZOFFSETTO:+0200
TZNAME:EET
DTSTART:19701025T040000
RRULE:FREQ=YEARLY;BYMONTH=10;BYDAY=-1SU
END:STANDARD
END:VTIMEZONE
BEGIN:VEVENT
UID:1982923:Event:116418
DTSTAMP:20260420T060627Z
SUMMARY:Hi Rollers @ Studio 25's opening party
DESCRIPTION:Στο κέντρο του Περιστερίου, στη
  Αθήνα, σ' έναν ειδικά διαμορφωμένο χώ
 ο, δημιουργήθηκε το STAGE 25, θέλοντας να 
 αρουσιάζει συγκροτήματα από την εγχώ
 ια σκηνή του Blues, Garage, Alternative, Rock αλλά κα
 ι της Jazz.\n \nΗ έναρξη θα γίνει το Σάββατ
 ο 22 Οκτωβρίου με τους HiRollers όπου θα μας 
 κάνουν να χορέψουμε στους ρυθμούς των 
 Jump Blues και Jive.\nΟι HI ROLLERS σχηματίστηκαν σ
 την Αθήνα από μουσικούς που, εκτός από 
 τις rock’n’roll εμπειρίες τους, είχαν τη θ
 έληση να σχηματίσουν μία μπάντα μοναδ
 κή, ώστε να μπορούν να συνθέσουν και ν
  παίξουν τη μουσική που πάντοτε αγαπο
 σαν. Μιά ανάμιξη jazz, blues, swing και boogie, ιδ
 αίτερα δημοφιλή στα τέλη της δεκαετία
 ς του ‘40 και τις αρχές εκείνης του ‘50, 
 γνωστή με το όνομα Jive. Στα χνάρια, λοιπ
 ν, μουσικών σαν τους Wynnonie Harris, Louis Prima, Lo
 uis Jordan, Roy Brown, Wynnona Carr, Ruth Brown και Big Joe Turner,
  αλλά και με δικές τους συνθέσεις, οι Hi 
 Rollers θα καταλάβουν τη σκηνή του Gagarin γι
  να μας ταξιδέψουν στον χρόνο - γυρνών
 ας μας πίσω, στις υπέροχες ημέρες και 
 ον ρυθμό του Jive - έχοντας ως μέσο τις κ
 λύτερες προθέσεις και, ακόμα περισσότ
 ερη, διάθεση για τρεις ιδιαίτερα swingin’
  και rockin’ βραδυές, γεμάτες κέφι και χο
 ό. \nΤο πρόγραμμα θ'ανοίξουν οι Rosewood Broth
 ers συνδυάζοντας τα blues του Muddy Waters, με τη
 ν Soul των Sly and the Family Stone, αλλά και την γλυ
 κιά αυθεντικότητα του J.J.Cale.\nΗ πόρτα θ'
 νοίξει στις 22:00 και το πρόγραμμα θ'αρχ
 σει στις 23:30.\nΗ είσοδος θα κοστίζει 8 ε
 ρώ με μπύρα η κρασί και θα υπάρχει μία 
 επιβάρυνση 2 ευρώ για ποτό η κοκτέηλ.\n\n
 \nFor more information visit https://blues.gr/events/hi-rollers-studio
 -25-s-opening-party
DTSTART;TZID=Europe/Athens:20111022T220000
DTEND;TZID=Europe/Athens:20111023T020000
CATEGORIES:jump, blues, jive
LOCATION:Studio 25
WEBSITE:http://www.myspace.com/thehirollers
URL:http://www.myspace.com/thehirollers
CONTACT:210 5714785
ORGANIZER:Studio 25
ATTACH;FMTTYPE="image/jpeg":http://storage.ning.com/topology/rest/1.0/
 file/get/2252959183?profile=original
ATTENDEE;ROLE=REQ-PARTICIPANT;PARTSTAT=ACCEPTED;RSVP=TRUE;CN=Panos:htt
 ps://blues.gr/profile/Panos
ATTENDEE;ROLE=REQ-PARTICIPANT;PARTSTAT=ACCEPTED;RSVP=TRUE;CN="Dimitris
  Ioannou":https://blues.gr/profile/DimitrisIoannou
ATTENDEE;ROLE=REQ-PARTICIPANT;PARTSTAT=ACCEPTED;RSVP=TRUE;CN="Music Ne
 twork by Michael Limnios":https://blues.gr/profile/MichalisLimnios
END:VEVENT
END:VCALENDAR
