BEGIN:VCALENDAR
PRODID:NingEventWidget-v1
VERSION:2.0
METHOD:PUBLISH
BEGIN:VTIMEZONE
TZID:Europe/Athens
X-LIC-LOCATION:Europe/Athens
BEGIN:DAYLIGHT
TZOFFSETFROM:+0200
TZOFFSETTO:+0300
TZNAME:EEST
DTSTART:19700329T030000
RRULE:FREQ=YEARLY;BYMONTH=3;BYDAY=-1SU
END:DAYLIGHT
BEGIN:STANDARD
TZOFFSETFROM:+0300
TZOFFSETTO:+0200
TZNAME:EET
DTSTART:19701025T040000
RRULE:FREQ=YEARLY;BYMONTH=10;BYDAY=-1SU
END:STANDARD
END:VTIMEZONE
BEGIN:VEVENT
UID:1982923:Event:115877
DTSTAMP:20260420T041830Z
SUMMARY:Hot Organic Trio @ In Vivo
DESCRIPTION:Γιάννης Μόνος: Hammond Organ-φωνή-φυσα
 ρμόνικα, Μάκης Αμπλιανίτης: κιθάρα και
  Ζαφείρης Τσίναλης: τύμπανα. Acid-Jazz, Blues, 
 Soul, από τρεις δεξιοτέχνες μουσικούς πο
 υ καθένας έχει την προσωπική του πορεί
 α και δισκογραφία.\n\n\nFor more information visit http
 s://blues.gr/events/hot-organic-trio
DTSTART;TZID=Europe/Athens:20111021T230000
DTEND;TZID=Europe/Athens:20111022T020000
CATEGORIES:acid-jazz, blues
LOCATION:IN VIVO
WEBSITE:http://www.myspace.com/hotorganictrio
URL:http://www.myspace.com/hotorganictrio
CONTACT:210-3822103
ORGANIZER:In Vivo
ATTACH;FMTTYPE="image/jpeg":http://storage.ning.com/topology/rest/1.0/
 file/get/2252959618?profile=original
ATTENDEE;ROLE=REQ-PARTICIPANT;PARTSTAT=ACCEPTED;RSVP=TRUE;CN="Music Ne
 twork by Michael Limnios":https://blues.gr/profile/MichalisLimnios
END:VEVENT
END:VCALENDAR
