BEGIN:VCALENDAR
PRODID:NingEventWidget-v1
VERSION:2.0
METHOD:PUBLISH
BEGIN:VTIMEZONE
TZID:Europe/Athens
X-LIC-LOCATION:Europe/Athens
BEGIN:DAYLIGHT
TZOFFSETFROM:+0200
TZOFFSETTO:+0300
TZNAME:EEST
DTSTART:19700329T030000
RRULE:FREQ=YEARLY;BYMONTH=3;BYDAY=-1SU
END:DAYLIGHT
BEGIN:STANDARD
TZOFFSETFROM:+0300
TZOFFSETTO:+0200
TZNAME:EET
DTSTART:19701025T040000
RRULE:FREQ=YEARLY;BYMONTH=10;BYDAY=-1SU
END:STANDARD
END:VTIMEZONE
BEGIN:VEVENT
UID:1982923:Event:54868
DTSTAMP:20260422T155225Z
SUMMARY:http://www.youtube.com/watch?v=BR9TVO1I5FA
DESCRIPTION:MAGLARAS PLAYS RED HOUSE\n\nFor more information visit htt
 ps://blues.gr/events/httpwwwyoutubecomwatchvbr9tvo1-1
DTSTART;TZID=Europe/Athens:20100429T180000
DTEND;TZID=Europe/Athens:20100429T190000
CATEGORIES:blues
LOCATION:ATHENS
WEBSITE:
URL:
CONTACT:
ORGANIZER;CN="I M A BLUESMAN":https://blues.gr/profile/IMABLUESMAN
ATTACH;FMTTYPE="image/jpeg":
ATTENDEE;ROLE=REQ-PARTICIPANT;PARTSTAT=ACCEPTED;RSVP=TRUE;CN="I M A BL
 UESMAN":https://blues.gr/profile/IMABLUESMAN
END:VEVENT
END:VCALENDAR
