BEGIN:VCALENDAR
PRODID:NingEventWidget-v1
VERSION:2.0
METHOD:PUBLISH
BEGIN:VTIMEZONE
TZID:Europe/Athens
X-LIC-LOCATION:Europe/Athens
BEGIN:DAYLIGHT
TZOFFSETFROM:+0200
TZOFFSETTO:+0300
TZNAME:EEST
DTSTART:19700329T030000
RRULE:FREQ=YEARLY;BYMONTH=3;BYDAY=-1SU
END:DAYLIGHT
BEGIN:STANDARD
TZOFFSETFROM:+0300
TZOFFSETTO:+0200
TZNAME:EET
DTSTART:19701025T040000
RRULE:FREQ=YEARLY;BYMONTH=10;BYDAY=-1SU
END:STANDARD
END:VTIMEZONE
BEGIN:VEVENT
UID:1982923:Event:104423
DTSTAMP:20260422T114208Z
SUMMARY:In Vivo: Have a Nice Blues Summer
DESCRIPTION:Το Live Club των Εξαρχείων σας αποχα
 ιρετά και φέτος για καλοκαίρι με το κα
 ιερωμένο διήμερο Live Party ανανεώνοντας 
 ο ραντεβού για τον επόμενο Οκτώβριο. Τ
 ις δύο βραδιές του Party (20 &21/5), μουσικοί 
 αι σχήματα, θα εναλλάσσονται, αλλά και
  θα μοιράζονται τη σκηνή αυτοσχεδιάζο
 τας σε απρόβλεπτους συνδυασμούς, δίνο
 ντας μία γεύση από το πρόγραμμα του In Vi
 vo κατά τη διάρκεια των 7 χρόνων λειτουρ
 γίας του.\nΠαρασκευή 20 & Σάββατο 21 MAΪOY 201
 1Συμμετέχουν:Δημήτρης Παναγόπουλος & Au
 raΓιώργος Χατζόπουλος & the DukesNo Man’s LandHot 
 Organic TrioDown Home Blues BandNo Name Blues BandCongo Square Blues B
 andκαι πολλοί άλλοι guests....\n\n\nFor more information
  visit https://blues.gr/events/in-vivo-have-a-nice-blues
DTSTART;TZID=Europe/Athens:20110520T220000
DTEND;TZID=Europe/Athens:20110522T030000
CATEGORIES:live
LOCATION:In Vivo
WEBSITE:http://www.invivoclub.gr/
URL:http://www.invivoclub.gr/
CONTACT:210-3822103
ORGANIZER:In Vivo
ATTACH;FMTTYPE="image/jpeg":http://storage.ning.com/topology/rest/1.0/
 file/get/2252952426?profile=original
ATTENDEE;ROLE=REQ-PARTICIPANT;PARTSTAT=ACCEPTED;RSVP=TRUE;CN="Music Ne
 twork by Michael Limnios":https://blues.gr/profile/MichalisLimnios
END:VEVENT
END:VCALENDAR
