BEGIN:VCALENDAR
PRODID:NingEventWidget-v1
VERSION:2.0
METHOD:PUBLISH
BEGIN:VTIMEZONE
TZID:Europe/Athens
X-LIC-LOCATION:Europe/Athens
BEGIN:DAYLIGHT
TZOFFSETFROM:+0200
TZOFFSETTO:+0300
TZNAME:EEST
DTSTART:19700329T030000
RRULE:FREQ=YEARLY;BYMONTH=3;BYDAY=-1SU
END:DAYLIGHT
BEGIN:STANDARD
TZOFFSETFROM:+0300
TZOFFSETTO:+0200
TZNAME:EET
DTSTART:19701025T040000
RRULE:FREQ=YEARLY;BYMONTH=10;BYDAY=-1SU
END:STANDARD
END:VTIMEZONE
BEGIN:VEVENT
UID:1982923:Event:26101
DTSTAMP:20260425T143815Z
SUMMARY:IN VIVO-SUMMER CLOSING LIVE PARTY
DESCRIPTION:\n\nFor more information visit https://blues.gr/events/in-
 vivosummer-closing-live
DTSTART;TZID=Europe/Athens:20090516T000000
DTEND;TZID=Europe/Athens:20090516T235900
CATEGORIES:summer, closing, live, party
LOCATION:IN VIVO
WEBSITE:
URL:
CONTACT:210 3822103
ORGANIZER:IN VIVO
ATTACH;FMTTYPE="image/jpeg":http://storage.ning.com/topology/rest/1.0/
 file/get/2073753983?profile=original
ATTENDEE;ROLE=REQ-PARTICIPANT;PARTSTAT=ACCEPTED;RSVP=TRUE;CN=George:ht
 tps://blues.gr/profile/George23
ATTENDEE;ROLE=REQ-PARTICIPANT;PARTSTAT=ACCEPTED;RSVP=TRUE;CN="Giannis 
 Pachidis":https://blues.gr/profile/ioannis
ATTENDEE;ROLE=REQ-PARTICIPANT;PARTSTAT=ACCEPTED;RSVP=TRUE;CN="Small Bl
 ues Trap":https://blues.gr/profile/SmallBluesTrap
ATTENDEE;ROLE=REQ-PARTICIPANT;PARTSTAT=TENTATIVE;RSVP=TRUE;CN="Jimmy D
 .":https://blues.gr/profile/jimmyd
END:VEVENT
END:VCALENDAR
