BEGIN:VCALENDAR
PRODID:NingEventWidget-v1
VERSION:2.0
METHOD:PUBLISH
BEGIN:VTIMEZONE
TZID:Europe/Athens
X-LIC-LOCATION:Europe/Athens
BEGIN:DAYLIGHT
TZOFFSETFROM:+0200
TZOFFSETTO:+0300
TZNAME:EEST
DTSTART:19700329T030000
RRULE:FREQ=YEARLY;BYMONTH=3;BYDAY=-1SU
END:DAYLIGHT
BEGIN:STANDARD
TZOFFSETFROM:+0300
TZOFFSETTO:+0200
TZNAME:EET
DTSTART:19701025T040000
RRULE:FREQ=YEARLY;BYMONTH=10;BYDAY=-1SU
END:STANDARD
END:VTIMEZONE
BEGIN:VEVENT
UID:1982923:Event:84748
DTSTAMP:20260422T025806Z
SUMMARY:JAM NIGHT @ LAZY CLUB...ALL BLUES AND ROCK PERFORMERS ARE WELC
 OME.
DESCRIPTION:Δευτέρα 20/12\nJAM NIGHT\nΚάθε Δευτέρα 
 ροσκαλούμε τους μουσικούς της πόλης σ
 ε ατέλειωτα ξέφρενα τζαμαρίσματα! Η σκ
 ηνή είναι  ανοιχτή για όλους όσους έχο
 υν το Rock στην καρδιά. Δεν αποκλείεται κ
 ανείς!\nΕλάχιστη κατανάλωση 5ευρώ.\n \n\nF
 or more information visit https://blues.gr/events/jam-night-lazy-cluba
 ll-blues
DTSTART;TZID=Europe/Athens:20101220T223000
DTEND;TZID=Europe/Athens:20101221T023000
CATEGORIES:jam, night
LOCATION:LAZY ROCK AND BLUES CLUB
WEBSITE:http://www.athinorama.gr/music/data/halls/?id=10000084&selTab=
 1
URL:http://www.athinorama.gr/music/data/halls/?id=10000084&selTab=1
CONTACT:210 6895535
ORGANIZER;CN="Spiros Dramitinos":https://blues.gr/profile/SpirosDramit
 inos
ATTACH;FMTTYPE="image/jpeg":http://storage.ning.com/topology/rest/1.0/
 file/get/2252944365?profile=original
ATTENDEE;ROLE=REQ-PARTICIPANT;PARTSTAT=ACCEPTED;RSVP=TRUE;CN="Spiros D
 ramitinos":https://blues.gr/profile/SpirosDramitinos
END:VEVENT
END:VCALENDAR
