BEGIN:VCALENDAR
PRODID:NingEventWidget-v1
VERSION:2.0
METHOD:PUBLISH
BEGIN:VTIMEZONE
TZID:Europe/Athens
X-LIC-LOCATION:Europe/Athens
BEGIN:DAYLIGHT
TZOFFSETFROM:+0200
TZOFFSETTO:+0300
TZNAME:EEST
DTSTART:19700329T030000
RRULE:FREQ=YEARLY;BYMONTH=3;BYDAY=-1SU
END:DAYLIGHT
BEGIN:STANDARD
TZOFFSETFROM:+0300
TZOFFSETTO:+0200
TZNAME:EET
DTSTART:19701025T040000
RRULE:FREQ=YEARLY;BYMONTH=10;BYDAY=-1SU
END:STANDARD
END:VTIMEZONE
BEGIN:VEVENT
UID:1982923:Event:110564
DTSTAMP:20260422T054606Z
SUMMARY:Jam Nights
DESCRIPTION:Κάθε Δευτέρα το Lazy, προσκαλεί το
 υς μουσικούς της πόλης σε ατέλειωτα ξέ
 φρενα τζαμαρίσματα! Η σκηνή είναι  ανο
 ιχτή για όλους όσους έχουν το Rock στην κ
 αρδιά και το blues στην ψυχή. Δεν αποκλεί
 ται κανείς!\nΤο LAZY άνοιξε τον Οκτώβρη τ
 ου 2004 και ξεκίνησε τα LIVE το Δεκέμβρη το
 υ ίδιου χρόνου. Στην αρχή μόνο Παρασκε
 ή – Σαββάτο με τους “ΡΙΣΚΟ” και από τ
 ο Μάιο του 2005 δυναμικά με καθημερινά ζ
 ντανό πρόγραμμα.\n\n\nFor more information visit https:
 //blues.gr/events/jam-nights
DTSTART;TZID=Europe/Athens:20110919T000000
DTEND;TZID=Europe/Athens:20110919T235900
CATEGORIES:jam, live
LOCATION:LAZY
WEBSITE:http://lazy.gr/content5.html
URL:http://lazy.gr/content5.html
CONTACT:2106895535
ORGANIZER:lazy
ATTACH;FMTTYPE="image/jpeg":http://storage.ning.com/topology/rest/1.0/
 file/get/2252954626?profile=original
ATTENDEE;ROLE=REQ-PARTICIPANT;PARTSTAT=ACCEPTED;RSVP=TRUE;CN="Music Ne
 twork by Michael Limnios":https://blues.gr/profile/MichalisLimnios
END:VEVENT
END:VCALENDAR
