BEGIN:VCALENDAR
PRODID:NingEventWidget-v1
VERSION:2.0
METHOD:PUBLISH
BEGIN:VTIMEZONE
TZID:Europe/Athens
X-LIC-LOCATION:Europe/Athens
BEGIN:DAYLIGHT
TZOFFSETFROM:+0200
TZOFFSETTO:+0300
TZNAME:EEST
DTSTART:19700329T030000
RRULE:FREQ=YEARLY;BYMONTH=3;BYDAY=-1SU
END:DAYLIGHT
BEGIN:STANDARD
TZOFFSETFROM:+0300
TZOFFSETTO:+0200
TZNAME:EET
DTSTART:19701025T040000
RRULE:FREQ=YEARLY;BYMONTH=10;BYDAY=-1SU
END:STANDARD
END:VTIMEZONE
BEGIN:VEVENT
UID:1982923:Event:492200
DTSTAMP:20260424T155143Z
SUMMARY:Jazz and Blues Events
DESCRIPTION:Συναυλιακός χώρος με την ατμόσφ
 αιρα ενός αυθεντικού jazz club. Live κάθε Παρ
 ασκευή, Σάββατο και Κυριακή.Τις καθημε
 ρινές λειτουργεί ως τζαζ μπαρ με μουσι
 κή και ποτό.\r\nhttps://musicenterathens.com\r\n\n\nFor more 
 information visit https://blues.gr/events/jazz-and-blues-events
DTSTART;TZID=Europe/Athens:20240928T000000
DTEND;TZID=Europe/Athens:20250131T235900
CATEGORIES:jazz, blues
LOCATION:Jazzét Music Hall
WEBSITE:https://musicenterathens.com
URL:https://musicenterathens.com
CONTACT:
ORGANIZER:Jazzét Café / Jazzét Music Hall
ATTACH;FMTTYPE="image/jpeg":https://storage.ning.com/topology/rest/1.0
 /file/get/12958209489?profile=original
ATTENDEE;ROLE=REQ-PARTICIPANT;PARTSTAT=ACCEPTED;RSVP=TRUE;CN="Music Ne
 twork by Michael Limnios":https://blues.gr/profile/MichalisLimnios
END:VEVENT
END:VCALENDAR
