BEGIN:VCALENDAR
PRODID:NingEventWidget-v1
VERSION:2.0
METHOD:PUBLISH
BEGIN:VTIMEZONE
TZID:Europe/Athens
X-LIC-LOCATION:Europe/Athens
BEGIN:DAYLIGHT
TZOFFSETFROM:+0200
TZOFFSETTO:+0300
TZNAME:EEST
DTSTART:19700329T030000
RRULE:FREQ=YEARLY;BYMONTH=3;BYDAY=-1SU
END:DAYLIGHT
BEGIN:STANDARD
TZOFFSETFROM:+0300
TZOFFSETTO:+0200
TZNAME:EET
DTSTART:19701025T040000
RRULE:FREQ=YEARLY;BYMONTH=10;BYDAY=-1SU
END:STANDARD
END:VTIMEZONE
BEGIN:VEVENT
UID:1982923:Event:90427
DTSTAMP:20260424T224414Z
SUMMARY:Jazza SLam
DESCRIPTION:\n        Ο Jazza Slam με την καινούρ
 α του δουλειά συμπυκνώνει μισό αιώνα 
 αοτικής κατανάλωσης, βάναυσης εκμετά
 λευσης και αηδιαστικής αδιαφορίας μέ
 α από την επανασύνθεση και επανατοποθ
 έτηση δώδεκα τραγουδιών της Αφροαμερι
 κανικής αλλά και δικής του πρωτότυπης
  μουσικής παραγωγής που οδηγούν στη  
  στερεοποίηση του χρόνου και στη δυνατ
 ότητα ψηλάφησης οραμάτων , ονείρων , επ
 αναστάσεων που δεν καρποφόρησαν και ο
 ήγησαν σε μια βίαιη αυτοκαταστροφική 
 έκρηξη κανιβαλισμού!\n      Η μουσική 
 εν είναι το αποτέλεσμα αλλά ο μεγεθυν
 ικός φακός  και η επιλογή των τραγουδ
 ών , μονόδρομος , για να εκφραστούν οι 
 αγκόσμιες , πλέον , συνθήκες δουλείας, 
 στις Global Μετααστικές  «βαμβακοφυτείε
 » με τους εκατομμύρια ηδονισμένους δο
 ύλους που έχασαν την ελευθερία τους Κα
 ταναλώνοντας!\n     Το «Nu Urban Blues» είναι
  μια κραυγή  μέσα από τα περιττώματα τ
 ν παραγόμενων Μετααστικών Ιδεοληψιών
  που προσπαθούν να ξεγελάσουν το Θάνατ
 ο αποποιούμενοι τη Γέννηση βουλιάζοντ
 ας μέσα σε σιλικονούχα  υποκατάστατα !
 \n     Πέντε άξονες που πραγματεύονται
  τη Ματαιοδοξία , τον Κανιβαλισμό , την 
 Εξουσία , τον Αυνανισμό και το Πλαστικ
  Ναρκωτικό ευνουχισμού της Σκέψης ... τ
 ην Τηλεόραση,  δημιουργούν ένα μαγικό 
 φίλτρο  απελευθέρωσης, ειλικρινούς εν
 δοσκόπησης και  παραδοχής στη σύμπραξ
 η του εγκλήματος  που οδηγεί στην κάθα
 ρση και στη δημιουργία φωτεινού ορίζο
 τα ανιδιοτελούς ονείρου!  \n \n      Τ
  video που προβάλλονται είναι αποδελτίω
 η από μια τεράστια βιβλιοθήκη ανθρώπι
 νης απόγνωσης και ματαιοδοξίας, το «You 
 Tube» και είναι  μονταρισμένα από τον  Ja
 zza όπως και η μουσική επένδυση  είναι σ
 υνθέσεις του ίδιου ( έκτος από το POKO POKO 
 που είναι σύνθεση ενός ιντερνετιακού 
 ουσικού και animator, του ΡΟΚΟ).\n\nFor more informa
 tion visit https://blues.gr/events/jazza-slam-1
DTSTART;TZID=Europe/Athens:20110130T210000
DTEND;TZID=Europe/Athens:20110130T230000
CATEGORIES:live
LOCATION:Αριδαία
WEBSITE:
URL:
CONTACT:6934173458
ORGANIZER;CN="Jazza SLam":https://blues.gr/profile/JazzaSLam
ATTACH;FMTTYPE="image/jpeg":http://storage.ning.com/topology/rest/1.0/
 file/get/2252947891?profile=original
ATTENDEE;ROLE=REQ-PARTICIPANT;PARTSTAT=ACCEPTED;RSVP=TRUE;CN="Jazza SL
 am":https://blues.gr/profile/JazzaSLam
END:VEVENT
END:VCALENDAR
