BEGIN:VCALENDAR
PRODID:NingEventWidget-v1
VERSION:2.0
METHOD:PUBLISH
BEGIN:VTIMEZONE
TZID:Europe/Athens
X-LIC-LOCATION:Europe/Athens
BEGIN:DAYLIGHT
TZOFFSETFROM:+0200
TZOFFSETTO:+0300
TZNAME:EEST
DTSTART:19700329T030000
RRULE:FREQ=YEARLY;BYMONTH=3;BYDAY=-1SU
END:DAYLIGHT
BEGIN:STANDARD
TZOFFSETFROM:+0300
TZOFFSETTO:+0200
TZNAME:EET
DTSTART:19701025T040000
RRULE:FREQ=YEARLY;BYMONTH=10;BYDAY=-1SU
END:STANDARD
END:VTIMEZONE
BEGIN:VEVENT
UID:1982923:Event:189817
DTSTAMP:20260422T110908Z
SUMMARY:Jazza SLam Trio Live at \"Rock Legents\"
DESCRIPTION:The Jazza SLam Trio Presents at \"Rock Legents\" a trip in
  to Soundology\nAnother View in \"Blues\" side of Life! \n\n\nFor mor
 e information visit https://blues.gr/events/jazza-slam-trio-live-at-ro
 ck-legents
DTSTART;TZID=Europe/Athens:20131129T220000
DTEND;TZID=Europe/Athens:20131130T120000
CATEGORIES:live
LOCATION:Rock Legents
WEBSITE:
URL:
CONTACT:
ORGANIZER;CN="Jazza SLam":https://blues.gr/profile/JazzaSLam
ATTACH;FMTTYPE="image/jpeg":http://storage.ning.com/topology/rest/1.0/
 file/get/2253012008?profile=original
ATTENDEE;ROLE=REQ-PARTICIPANT;PARTSTAT=ACCEPTED;RSVP=TRUE;CN="Jazza SL
 am":https://blues.gr/profile/JazzaSLam
END:VEVENT
END:VCALENDAR
