BEGIN:VCALENDAR
PRODID:NingEventWidget-v1
VERSION:2.0
METHOD:PUBLISH
BEGIN:VTIMEZONE
TZID:Europe/Athens
X-LIC-LOCATION:Europe/Athens
BEGIN:DAYLIGHT
TZOFFSETFROM:+0200
TZOFFSETTO:+0300
TZNAME:EEST
DTSTART:19700329T030000
RRULE:FREQ=YEARLY;BYMONTH=3;BYDAY=-1SU
END:DAYLIGHT
BEGIN:STANDARD
TZOFFSETFROM:+0300
TZOFFSETTO:+0200
TZNAME:EET
DTSTART:19701025T040000
RRULE:FREQ=YEARLY;BYMONTH=10;BYDAY=-1SU
END:STANDARD
END:VTIMEZONE
BEGIN:VEVENT
UID:1982923:Event:143790
DTSTAMP:20260424T115114Z
SUMMARY:Jazza SLam Trio
DESCRIPTION:Στο Nu Urban Blues, που περιλαμβάνει δ
 κά του κομμάτια και διασκευές γνωστών
  τραγουδιών, παράγει ένα Blues ιδιαίτερο,
  NU (Γυμνό), που δεν αντιγράφει ούτε προσ
 κολλάται στο παρελθόν, αλλά τραγουδά κ
 αι εκφράζει τις παγκόσμιες, πλέον, συν
 ήκες δουλείας, στις global μεταβιομηχανι
 κές «βαμβακοφυτείες» με τους εκατομμύ
 ρια δούλους που έχασαν το όνειρο της ε
 ευθερίας καταναλώνοντας! Με visuals (προβ
 ολή μονταρισμένων video), μουσική επένδυ
 η, θεατρικό minimal σκηνικό και παρέμβαση
  με κείμενο που μοιράζεται, αποκτά δια
 τάσεις που ξεπερνούν την απλή συναυλί
 α.\nΓιατί το Blues δεν είναι μουσειακό είδ
 ος, ούτε μόδα, αλλά αντίσταση και κραυγ
 ή που σπάει τα δεσμά, όποια και αν είνα
  αυτά!\nJazza Slam : Κιθάρα, Φωνή, Σύνθεση,monta
 ge… Γιάννης Χρυσοχοίδης : Τούμπα Δημήτ
 ης Τρυψιάνης : Κιθάρα\n\nFor more information visit 
 https://blues.gr/events/jazza-slam-trio
DTSTART;TZID=Europe/Athens:20120407T220000
DTEND;TZID=Europe/Athens:20120408T100000
CATEGORIES:live
LOCATION:SPITIMOY
WEBSITE:http://www.ipolistonkosmo.gr/venueinfo.php?selectedvenue=SPITI
 MOU.groundfloor&gener=4
URL:http://www.ipolistonkosmo.gr/venueinfo.php?selectedvenue=SPITIMOU.
 groundfloor&gener=4
CONTACT:
ORGANIZER;CN="Jazza SLam":https://blues.gr/profile/JazzaSLam
ATTACH;FMTTYPE="image/jpeg":http://storage.ning.com/topology/rest/1.0/
 file/get/2252977949?profile=original
ATTENDEE;ROLE=REQ-PARTICIPANT;PARTSTAT=ACCEPTED;RSVP=TRUE;CN="Jazza SL
 am":https://blues.gr/profile/JazzaSLam
END:VEVENT
END:VCALENDAR
