BEGIN:VCALENDAR
PRODID:NingEventWidget-v1
VERSION:2.0
METHOD:PUBLISH
BEGIN:VTIMEZONE
TZID:Europe/Athens
X-LIC-LOCATION:Europe/Athens
BEGIN:DAYLIGHT
TZOFFSETFROM:+0200
TZOFFSETTO:+0300
TZNAME:EEST
DTSTART:19700329T030000
RRULE:FREQ=YEARLY;BYMONTH=3;BYDAY=-1SU
END:DAYLIGHT
BEGIN:STANDARD
TZOFFSETFROM:+0300
TZOFFSETTO:+0200
TZNAME:EET
DTSTART:19701025T040000
RRULE:FREQ=YEARLY;BYMONTH=10;BYDAY=-1SU
END:STANDARD
END:VTIMEZONE
BEGIN:VEVENT
UID:1982923:Event:272219
DTSTAMP:20260420T090553Z
SUMMARY:Jethro Tull
DESCRIPTION:\r\nΟ Ian Anderson μας προσκαλεί να γιο
 τάσουμε τα 50 χρόνια των Jethro Tull στο Ωδε
 ο Ηρώδου του Αττικού, στις 15 Ιουνίου, 16
  χρόνια μετά την ιστορική sold out συναυλί
 α του 2003, όπου ήταν και η πρώτη για ροκ 
 υγκρότημα σε αυτόν τον επιβλητικό χώρ
 ο του παγκόσμιου πολιτισμού.\r\n\n\nFor more i
 nformation visit https://blues.gr/events/jethro-tull
DTSTART;TZID=Europe/Athens:20190615T000000
DTEND;TZID=Europe/Athens:20190615T235900
CATEGORIES:rock, classic, folk, blues
LOCATION:Ωδείο Ηρώδου του Αττικού
WEBSITE:http://jethrotull.com/
URL:http://jethrotull.com/
CONTACT:
ORGANIZER:High Priority Promotions
ATTACH;FMTTYPE="image/jpeg":https://storage.ning.com/topology/rest/1.0
 /file/get/1213127395?profile=original
ATTENDEE;ROLE=REQ-PARTICIPANT;PARTSTAT=ACCEPTED;RSVP=TRUE;CN="Music Ne
 twork by Michael Limnios":https://blues.gr/profile/MichalisLimnios
END:VEVENT
END:VCALENDAR
