BEGIN:VCALENDAR
PRODID:NingEventWidget-v1
VERSION:2.0
METHOD:PUBLISH
BEGIN:VTIMEZONE
TZID:Europe/Athens
X-LIC-LOCATION:Europe/Athens
BEGIN:DAYLIGHT
TZOFFSETFROM:+0200
TZOFFSETTO:+0300
TZNAME:EEST
DTSTART:19700329T030000
RRULE:FREQ=YEARLY;BYMONTH=3;BYDAY=-1SU
END:DAYLIGHT
BEGIN:STANDARD
TZOFFSETFROM:+0300
TZOFFSETTO:+0200
TZNAME:EET
DTSTART:19701025T040000
RRULE:FREQ=YEARLY;BYMONTH=10;BYDAY=-1SU
END:STANDARD
END:VTIMEZONE
BEGIN:VEVENT
UID:1982923:Event:187894
DTSTAMP:20260426T064946Z
SUMMARY:JIMMY & THE HUNTERS
DESCRIPTION:The most dynamic blues band in our days gives a chance to 
 the people to live the blues experience absoloutely.\nJIMMY & THE HUNT
 ERS LIVE it's the rock of the blues or the blues of the rock? Just cho
 ose...it's up to ya!!!\n\nFor more information visit https://blues.gr/
 events/jimmy-the-hunters
DTSTART;TZID=Europe/Athens:20131025T230000
DTEND;TZID=Europe/Athens:20131026T010000
CATEGORIES:gig, live
LOCATION:POLYTEXNEIO ART THEATER & CAFE
WEBSITE:
URL:
CONTACT:6976619217 & 6909513153
ORGANIZER:GOT THE BLUES SENSESSIONS
ATTACH;FMTTYPE="image/jpeg":http://storage.ning.com/topology/rest/1.0/
 file/get/2253016799?profile=original
ATTENDEE;ROLE=REQ-PARTICIPANT;PARTSTAT=ACCEPTED;RSVP=TRUE;CN="Drummati
 c Style":https://blues.gr/profile/style
END:VEVENT
END:VCALENDAR
