BEGIN:VCALENDAR
PRODID:NingEventWidget-v1
VERSION:2.0
METHOD:PUBLISH
BEGIN:VTIMEZONE
TZID:Europe/Athens
X-LIC-LOCATION:Europe/Athens
BEGIN:DAYLIGHT
TZOFFSETFROM:+0200
TZOFFSETTO:+0300
TZNAME:EEST
DTSTART:19700329T030000
RRULE:FREQ=YEARLY;BYMONTH=3;BYDAY=-1SU
END:DAYLIGHT
BEGIN:STANDARD
TZOFFSETFROM:+0300
TZOFFSETTO:+0200
TZNAME:EET
DTSTART:19701025T040000
RRULE:FREQ=YEARLY;BYMONTH=10;BYDAY=-1SU
END:STANDARD
END:VTIMEZONE
BEGIN:VEVENT
UID:1982923:Event:82074
DTSTAMP:20260421T215057Z
SUMMARY:JOHN PRIMER AND VIRGINIA MARTINEZ
DESCRIPTION:EXCLUSIVE SHOW IN URUGUAY!!!!!!!!\n\nFor more information 
 visit https://blues.gr/events/john-primer-and-virginia
DTSTART;TZID=Europe/Athens:20101218T210000
DTEND;TZID=Europe/Athens:20101218T233000
CATEGORIES:show
LOCATION:LA COLMENA
WEBSITE:http://www.myspace.com/virginiablues
URL:http://www.myspace.com/virginiablues
CONTACT:
ORGANIZER:HORACIO SANTINI
ATTACH;FMTTYPE="image/jpeg":http://storage.ning.com/topology/rest/1.0/
 file/get/2252945872?profile=original
ATTENDEE;ROLE=REQ-PARTICIPANT;PARTSTAT=ACCEPTED;RSVP=TRUE;CN="VIRGINIA
  MARTINEZ":https://blues.gr/profile/VIRGINIAMARTINEZ
ATTENDEE;ROLE=REQ-PARTICIPANT;PARTSTAT=TENTATIVE;RSVP=TRUE;CN="Giannis
  Pachidis":https://blues.gr/profile/ioannis
END:VEVENT
END:VCALENDAR
