BEGIN:VCALENDAR
PRODID:NingEventWidget-v1
VERSION:2.0
METHOD:PUBLISH
BEGIN:VTIMEZONE
TZID:Europe/Athens
X-LIC-LOCATION:Europe/Athens
BEGIN:DAYLIGHT
TZOFFSETFROM:+0200
TZOFFSETTO:+0300
TZNAME:EEST
DTSTART:19700329T030000
RRULE:FREQ=YEARLY;BYMONTH=3;BYDAY=-1SU
END:DAYLIGHT
BEGIN:STANDARD
TZOFFSETFROM:+0300
TZOFFSETTO:+0200
TZNAME:EET
DTSTART:19701025T040000
RRULE:FREQ=YEARLY;BYMONTH=10;BYDAY=-1SU
END:STANDARD
END:VTIMEZONE
BEGIN:VEVENT
UID:1982923:Event:21791
DTSTAMP:20260425T033441Z
SUMMARY:JOHN STONE&THE CROSSROADS LVE
DESCRIPTION:4 HOURS OF GREAT BLUES AND ROCK WITH THE CROSSROADS\n\nFor
  more information visit https://blues.gr/events/john-stonethe-crossroa
 ds-lve
DTSTART;TZID=Europe/Athens:20090329T220000
DTEND;TZID=Europe/Athens:20090330T030000
CATEGORIES:live
LOCATION:JASMIN ROCK CLUB
WEBSITE:
URL:
CONTACT:
ORGANIZER;CN="John \" crossroads\"Stone":https://blues.gr/profile/john
 stone
ATTACH;FMTTYPE="image/jpeg":http://storage.ning.com/topology/rest/1.0/
 file/get/2073733353?profile=original
ATTENDEE;ROLE=REQ-PARTICIPANT;PARTSTAT=ACCEPTED;RSVP=TRUE;CN="John \" 
 crossroads\"Stone":https://blues.gr/profile/johnstone
END:VEVENT
END:VCALENDAR
