BEGIN:VCALENDAR
PRODID:NingEventWidget-v1
VERSION:2.0
METHOD:PUBLISH
BEGIN:VTIMEZONE
TZID:Europe/Athens
X-LIC-LOCATION:Europe/Athens
BEGIN:DAYLIGHT
TZOFFSETFROM:+0200
TZOFFSETTO:+0300
TZNAME:EEST
DTSTART:19700329T030000
RRULE:FREQ=YEARLY;BYMONTH=3;BYDAY=-1SU
END:DAYLIGHT
BEGIN:STANDARD
TZOFFSETFROM:+0300
TZOFFSETTO:+0200
TZNAME:EET
DTSTART:19701025T040000
RRULE:FREQ=YEARLY;BYMONTH=10;BYDAY=-1SU
END:STANDARD
END:VTIMEZONE
BEGIN:VEVENT
UID:1982923:Event:104339
DTSTAMP:20260420T093216Z
SUMMARY:Johnny Cash - The Tribute Show
DESCRIPTION:Οι Dustbowl παρουσιάζουν ένα vintage live
  show αφιερωμένο στον \"άνθρωπο με τα μαύ
 α\". Μετά την επιστροφή του Ελληνοαυστ
 αλού τραγουδιστή τους Big George οι \"Freight Tr
 ain Sound Ramblers\" συνεχίζουν το tribute στον  John
 ny Cash, τον άνθρωπο που μαζί με τους Tennessee
  Three τους δίδαξε το BOOM-CHICKA-BOOM Train Country στ
 λ. Η \"Twangy\" κιθάρα του Τelecaster Nick, οι ακου
 στικές και Steel κιθάρες του John Hardy, το \"ε
 μονικό\" και αχώριστο Train Rhythm Section του Sh
 oeshine  Boy [\"Shoeshine\" Drum Set] και της Lydia [Double Bas
 s] δημιουργούν το κατάλληλο background.\n\n\nFor
  more information visit https://blues.gr/events/johnny-cash-the-tribut
 e-show
DTSTART;TZID=Europe/Athens:20110521T223000
DTEND;TZID=Europe/Athens:20110522T020000
CATEGORIES:live
LOCATION:Rockin' The Casbah
WEBSITE:http://www.dustbowl.gr
URL:http://www.dustbowl.gr
CONTACT:210 3801875
ORGANIZER:Rockin' The Casbah
ATTACH;FMTTYPE="image/jpeg":http://storage.ning.com/topology/rest/1.0/
 file/get/2252957170?profile=original
ATTENDEE;ROLE=REQ-PARTICIPANT;PARTSTAT=ACCEPTED;RSVP=TRUE;CN="Music Ne
 twork by Michael Limnios":https://blues.gr/profile/MichalisLimnios
END:VEVENT
END:VCALENDAR
