BEGIN:VCALENDAR
PRODID:NingEventWidget-v1
VERSION:2.0
METHOD:PUBLISH
BEGIN:VTIMEZONE
TZID:Europe/Athens
X-LIC-LOCATION:Europe/Athens
BEGIN:DAYLIGHT
TZOFFSETFROM:+0200
TZOFFSETTO:+0300
TZNAME:EEST
DTSTART:19700329T030000
RRULE:FREQ=YEARLY;BYMONTH=3;BYDAY=-1SU
END:DAYLIGHT
BEGIN:STANDARD
TZOFFSETFROM:+0300
TZOFFSETTO:+0200
TZNAME:EET
DTSTART:19701025T040000
RRULE:FREQ=YEARLY;BYMONTH=10;BYDAY=-1SU
END:STANDARD
END:VTIMEZONE
BEGIN:VEVENT
UID:1982923:Event:249957
DTSTAMP:20260422T122137Z
SUMMARY:JOSEPH PRIEST BAND...blues
DESCRIPTION:Κυριακή 27/11\nJOSEPH PRIEST BAND\nΟι Joseph Prie
 st Band είναι ένα σύνολο μουσικών που παρ
 υσιάζουν ένα πρόγραμμα αυθεντικών συ
 θέσεων που κινούνται στον ευρύτερο χώ
 ρο των Μπλουζ. Παρ όλο που έχει αντλήσε
 ι την έμπνευσή του από τους ‘γίγαντες
  του είδους, ο Mark Joseph Priest που υπογράφε
  την σύνθεση και τον στίχο, δεν ξεπατι
 ώνει τις παλιές φόρμες. Τα θέματα είνα
 ι σημερινά και η τρέχουσα πραγματικότ
 τα βρίσκει έκφραση μέσα από εξ ίσου σύ
 γχρονα μουσικά ακούσματα. Τα πνευστά τ
 ου Βασίλη Σαλτίκη και του Κωστή Βαζούρ
 α δίνουν ένα ξεχωριστό χρώμα σε ένα μο
 αδικό ρυθμικό περιβάλλον που διαμορφ
 νουν ο Μάνος Λούτας στο μπάσο με τον Α
 οστόλη Πατρωνίδη στα τύμπανα. Ο Άγγελ
 ς Τσουρέλης απλώνετε ελεύθερα στα πλή
 κτρα ενώ κεντρική φιγούρα του όλου σκη
 νικού είναι η φωνή και η κιθάρα του Mark J
 oseph Priest.        Είσοδος 10 ευρώ με ποτό.\
 n\nFor more information visit https://blues.gr/events/joseph-priest-ba
 nd-blues
DTSTART;TZID=Europe/Athens:20161127T223000
DTEND;TZID=Europe/Athens:20161128T020000
CATEGORIES:blues, "&", "blues."
LOCATION:LAZY CLUB
WEBSITE:http://www.lazy.gr
URL:http://www.lazy.gr
CONTACT:210 6895535
ORGANIZER;CN="Spiros Dramitinos":https://blues.gr/profile/SpirosDramit
 inos
ATTACH;FMTTYPE="image/jpeg":http://storage.ning.com/topology/rest/1.0/
 file/get/2253052012?profile=original
ATTENDEE;ROLE=REQ-PARTICIPANT;PARTSTAT=ACCEPTED;RSVP=TRUE;CN="Spiros D
 ramitinos":https://blues.gr/profile/SpirosDramitinos
ATTENDEE;ROLE=REQ-PARTICIPANT;PARTSTAT=TENTATIVE;RSVP=TRUE;CN="Dimitri
 s Ioannou":https://blues.gr/profile/DimitrisIoannou
END:VEVENT
END:VCALENDAR
