BEGIN:VCALENDAR
PRODID:NingEventWidget-v1
VERSION:2.0
METHOD:PUBLISH
BEGIN:VTIMEZONE
TZID:Europe/Athens
X-LIC-LOCATION:Europe/Athens
BEGIN:DAYLIGHT
TZOFFSETFROM:+0200
TZOFFSETTO:+0300
TZNAME:EEST
DTSTART:19700329T030000
RRULE:FREQ=YEARLY;BYMONTH=3;BYDAY=-1SU
END:DAYLIGHT
BEGIN:STANDARD
TZOFFSETFROM:+0300
TZOFFSETTO:+0200
TZNAME:EET
DTSTART:19701025T040000
RRULE:FREQ=YEARLY;BYMONTH=10;BYDAY=-1SU
END:STANDARD
END:VTIMEZONE
BEGIN:VEVENT
UID:1982923:Event:191715
DTSTAMP:20260423T070334Z
SUMMARY:JUMP’N JIVE
DESCRIPTION:Καθώς είναι σύνηθες οι γιορτές 
 αι το γύρισμα της χρονιάς να συνοδεύο
 ται από ήχους ευχάριστους και γοητευτ
 ικούς, που συνδυάζουν το good feeling με το ξ
 έφρενο γλέντι, το Half Note Jazz Club γιορτάζει
  το νέο έτος με swingin’ jazz – στα πρότυπα 
 ων εκρηκτικών fifties parties, φιλοξενώντας 
 ους Jump ‘n Jive, μια από τις καλύτερες και
  πιο ζωντανές jump bands της Ευρώπης.\n\nΟι Ο
 λανδοί Jump ‘n Jive, ακολουθώντας τα βήματ
 α του Louis Jordan και των άλλων κλασικών το
  jump swing και του R&B, που κατέκλυσε την Αμ
 ρική αμέσως μετά τον πόλεμο και εξαπλ
 θηκε στα πέρατα του κόσμου ως ροκ εν ρ
 λ, αναβιώνουν σε πραγματικό χρόνο και 
 επί σκηνής όλο το κλίμα που καταγράφετ
 αι στη μουσική κλασικών μορφών του R&B ό
 πως οι Andrews Sisters, ο Fats Domino, ο Ray Charles κ.ά. μ
  τρόπο εκρηκτικό: ο τραγουδιστής Bert Vrie
 ling και τρεις τραγουδίστριες με έναν tap 
 dancer μπροστά και ένα ρυθμικό σχήμα με π
 ευστά, κιθάρα και όργανο Ηammond αποτελο
 ν τους Jump n’ Jive. Ο Vrieling, έμπειρος ροκ εν
  ρολ περφόρμερ, «έδεσε» μαζί τους στα ei
 ghties και έκτοτε το γκρουπ έχει κάνει πλ
 θος από χορευτικά άλμπουμ και έχει πε
 ιοδεύσει όλη τη Ευρώπη, μαζί με θρυλικ
 ούς καλλιτέχνες όπως ο Ray Charles ή ο Fats Domin
 o.\n\nFor more information visit https://blues.gr/events/jump-n-jive
DTSTART;TZID=Europe/Athens:20131229T220000
DTEND;TZID=Europe/Athens:20140105T230000
CATEGORIES:swing, jazz, rock, "n'", roll, rhythm, "&", blues, jive, ju
 mp
LOCATION:HALF NOTE JAZZ CLUB
WEBSITE:
URL:
CONTACT:+30 210 9213310
ORGANIZER:HALF NOTE JAZZ CLUB
ATTACH;FMTTYPE="image/jpeg":http://storage.ning.com/topology/rest/1.0/
 file/get/2253019289?profile=original
ATTENDEE;ROLE=REQ-PARTICIPANT;PARTSTAT=ACCEPTED;RSVP=TRUE;CN="Music Ne
 twork by Michael Limnios":https://blues.gr/profile/MichalisLimnios
END:VEVENT
END:VCALENDAR
