BEGIN:VCALENDAR
PRODID:NingEventWidget-v1
VERSION:2.0
METHOD:PUBLISH
BEGIN:VTIMEZONE
TZID:Europe/Athens
X-LIC-LOCATION:Europe/Athens
BEGIN:DAYLIGHT
TZOFFSETFROM:+0200
TZOFFSETTO:+0300
TZNAME:EEST
DTSTART:19700329T030000
RRULE:FREQ=YEARLY;BYMONTH=3;BYDAY=-1SU
END:DAYLIGHT
BEGIN:STANDARD
TZOFFSETFROM:+0300
TZOFFSETTO:+0200
TZNAME:EET
DTSTART:19701025T040000
RRULE:FREQ=YEARLY;BYMONTH=10;BYDAY=-1SU
END:STANDARD
END:VTIMEZONE
BEGIN:VEVENT
UID:1982923:Event:104558
DTSTAMP:20260424T141047Z
SUMMARY:keith   scott
DESCRIPTION:house of blues, chicago 7/22/2011\n\nFor more information 
 visit https://blues.gr/events/keith-scott
DTSTART;TZID=Europe/Athens:20110722T193000
DTEND;TZID=Europe/Athens:20110722T213000
CATEGORIES:concert
LOCATION:house   of   blues,chicago
WEBSITE:
URL:
CONTACT:
ORGANIZER;CN="keith    scott":https://blues.gr/profile/keithscott
ATTACH;FMTTYPE="image/jpeg":
ATTENDEE;ROLE=REQ-PARTICIPANT;PARTSTAT=ACCEPTED;RSVP=TRUE;CN="keith   
  scott":https://blues.gr/profile/keithscott
END:VEVENT
END:VCALENDAR
