BEGIN:VCALENDAR
PRODID:NingEventWidget-v1
VERSION:2.0
METHOD:PUBLISH
BEGIN:VTIMEZONE
TZID:Europe/Athens
X-LIC-LOCATION:Europe/Athens
BEGIN:DAYLIGHT
TZOFFSETFROM:+0200
TZOFFSETTO:+0300
TZNAME:EEST
DTSTART:19700329T030000
RRULE:FREQ=YEARLY;BYMONTH=3;BYDAY=-1SU
END:DAYLIGHT
BEGIN:STANDARD
TZOFFSETFROM:+0300
TZOFFSETTO:+0200
TZNAME:EET
DTSTART:19701025T040000
RRULE:FREQ=YEARLY;BYMONTH=10;BYDAY=-1SU
END:STANDARD
END:VTIMEZONE
BEGIN:VEVENT
UID:1982923:Event:63149
DTSTAMP:20260421T062838Z
SUMMARY:ΚΛΕΙΝΟΥΝ 6 ΧΡΟΝΙΑ \"LAZY\"....LETS PARTY TO DOWN
 ...
DESCRIPTION:Σάββατο 24/7\nDELIVERS / PARTY ΓΙΑ ΤΟ ΤΕΛΟ
 Σ ΤΗΣ ΧΡΟΝΙΑΣ!\nΓιώργος Διαμαντής: κιθά
 ρα-φωνή, Ηρακλής Μπουζιώτης: μπάσο-φων
 , Στέλιος Καρδαμάκης: ντραμς-φωνή\n\nΠΡ
 ΣΟΧΗ! Η μπάντα σκοτώνει! Πολλή ένταση, 
 πολλή ενέργεια, σκληρά μονοπάτια. Όλα 
 ' αυτό το τρίο είναι στον υπερθετικό β
 θμό. NO REMORSE, NO REGRET!\n\nFor more information visit https://
 blues.gr/events/kleinoyn-6-chronia-lazylets
DTSTART;TZID=Europe/Athens:20100724T230000
DTEND;TZID=Europe/Athens:20100725T040000
CATEGORIES:"delivers....certified", rock, band, by, "lazy club iso", "
 ...", lets, party
LOCATION:LAZY CLUB
WEBSITE:http://maps.google.com/maps?f=q&source=s_q&hl=en&geocode=&q=%C
 F%80%CE%B5%CE%BD%CF%84%CE%B5%CE%BB%CE%B7%CF%82+1+%CE%B2%CF%81%CE%B9%CE
 %BB%CE%B7%CF%83%CF%83%CE%B9%CE%B1&sll=21.125498,-81.386719&sspn=33.840
 031,56.162109&ie=UTF8&hq=&hnear=Pentelis+1,+Vrilissia+15235,+Athina,+G
 reece&z=16
URL:http://maps.google.com/maps?f=q&source=s_q&hl=en&geocode=&q=%CF%80
 %CE%B5%CE%BD%CF%84%CE%B5%CE%BB%CE%B7%CF%82+1+%CE%B2%CF%81%CE%B9%CE%BB%
 CE%B7%CF%83%CF%83%CE%B9%CE%B1&sll=21.125498,-81.386719&sspn=33.840031,
 56.162109&ie=UTF8&hq=&hnear=Pentelis+1,+Vrilissia+15235,+Athina,+Greec
 e&z=16
CONTACT:210 6895535
ORGANIZER;CN="Spiros Dramitinos":https://blues.gr/profile/SpirosDramit
 inos
ATTACH;FMTTYPE="image/jpeg":http://storage.ning.com/topology/rest/1.0/
 file/get/2252944157?profile=original
ATTENDEE;ROLE=REQ-PARTICIPANT;PARTSTAT=ACCEPTED;RSVP=TRUE;CN="Giannis 
 Pachidis":https://blues.gr/profile/ioannis
ATTENDEE;ROLE=REQ-PARTICIPANT;PARTSTAT=ACCEPTED;RSVP=TRUE;CN="Spiros D
 ramitinos":https://blues.gr/profile/SpirosDramitinos
END:VEVENT
END:VCALENDAR
