BEGIN:VCALENDAR
PRODID:NingEventWidget-v1
VERSION:2.0
METHOD:PUBLISH
BEGIN:VTIMEZONE
TZID:Europe/Athens
X-LIC-LOCATION:Europe/Athens
BEGIN:DAYLIGHT
TZOFFSETFROM:+0200
TZOFFSETTO:+0300
TZNAME:EEST
DTSTART:19700329T030000
RRULE:FREQ=YEARLY;BYMONTH=3;BYDAY=-1SU
END:DAYLIGHT
BEGIN:STANDARD
TZOFFSETFROM:+0300
TZOFFSETTO:+0200
TZNAME:EET
DTSTART:19701025T040000
RRULE:FREQ=YEARLY;BYMONTH=10;BYDAY=-1SU
END:STANDARD
END:VTIMEZONE
BEGIN:VEVENT
UID:1982923:Event:20309
DTSTAMP:20260423T210457Z
SUMMARY:LA ESQUINA DEL BLUES
DESCRIPTION:LIVE NOW !!!\nTHE BLUES'S CORNER\nHOST: MIGUEL DE OCA\nKEE
 P THE BLUES ALIVE\nWWW.LAESQUINADELBLUES.WEBS.COM\nHTTP://MEDIA.OHC.CU
 /HABANARADIO\nTOOLBAR:http://LAESQUINADELBLUES.OurToolbar.com\nwww.mys
 pace.com/sociedadhavanablues\nE.MAIL LAESQUINADELBLUES@YAHOO.COM\nFEEL
  FREE TO CONTACT ME\n011-53-7-8615463\n011-53-7-8649000\n\nSPANISH\nEN
  VIVO AHORA !!!\nLA ESQUINA DEL BLUES\nLOCUTOR: MIGUEL DE OCA\nMANTEN 
 VIVO EL BLUES\nWWW.LAESQUINADELBLUES.WEBS.COM\nHTTP://MEDIA.OHC.CU/HAB
 ANARADIO\nBARRA EXPLORER: http://LAESQUINADELBLUES.OurToolbar.com\nwww
 .myspace.com/sociedadhavanablues\nE.MAIL: LAESQUINADELBLUES@YAHOO.COM\
 nSIENTESE LIBRE AL CONTACTARME\n011-53-7-8615463\n011-53-7-8649000\n\n
 For more information visit https://blues.gr/events/la-esquina-del-blue
 s
DTSTART;TZID=Europe/Athens:20090315T210000
DTEND;TZID=Europe/Athens:20090315T220000
CATEGORIES:blues, radio, program
LOCATION:HAVANA CITY
WEBSITE:
URL:
CONTACT:
ORGANIZER:LA ESQUINA DEL BLUES(THE BLUES'S CORNER)
ATTACH;FMTTYPE="image/jpeg":http://storage.ning.com/topology/rest/1.0/
 file/get/2252936406?profile=original
ATTENDEE;ROLE=REQ-PARTICIPANT;PARTSTAT=ACCEPTED;RSVP=TRUE;CN=LAESQUINA
 DELBLUES:https://blues.gr/profile/laesquinadelblues
ATTENDEE;ROLE=REQ-PARTICIPANT;PARTSTAT=TENTATIVE;RSVP=TRUE;CN="JOHN AN
 GELATOS-Red Rooster Prod.":https://blues.gr/profile/JohnAngelatos
END:VEVENT
END:VCALENDAR
