BEGIN:VCALENDAR
PRODID:NingEventWidget-v1
VERSION:2.0
METHOD:PUBLISH
BEGIN:VTIMEZONE
TZID:Europe/Athens
X-LIC-LOCATION:Europe/Athens
BEGIN:DAYLIGHT
TZOFFSETFROM:+0200
TZOFFSETTO:+0300
TZNAME:EEST
DTSTART:19700329T030000
RRULE:FREQ=YEARLY;BYMONTH=3;BYDAY=-1SU
END:DAYLIGHT
BEGIN:STANDARD
TZOFFSETFROM:+0300
TZOFFSETTO:+0200
TZNAME:EET
DTSTART:19701025T040000
RRULE:FREQ=YEARLY;BYMONTH=10;BYDAY=-1SU
END:STANDARD
END:VTIMEZONE
BEGIN:VEVENT
UID:1982923:Event:162465
DTSTAMP:20260419T160122Z
SUMMARY:ΡΕΒΕΓΙΟΝ ΣΤΟ LAZY ME ZERO ZERO...ΜΕΧΡΙ ΠΡΩ
 ΑΣ.
DESCRIPTION:\nΔευτέρα 24/12\nΡΕΒΕΓΙΟΝ ΧΡΙΣΤΟΥΓ
 ΝΝΩΝ\nZERO ZERO \nSpecial guest: Μαρκέλλα Παναγιώ
 του\nΓιώργος Ζήκος: κιθάρα-φωνή, Μιχάλη
 ς Χρηστίδης: μπάσο, Γιώργος Κατσίδης: ν
 τραμς.\n Η κλασσική ROCK αποθέωση! Το CLASSIC
  ROCK, ξεκινάει με καταιγισμό από ανόθευ
 α ΓΚΑΖΙΑ … Απλά απολαυστικοί!\nΕίσοδο
  10 ευρώ με ποτό.\n\nFor more information visit https://blu
 es.gr/events/lazy-me-zero-zero
DTSTART;TZID=Europe/Athens:20121224T120000
DTEND;TZID=Europe/Athens:20121225T060000
CATEGORIES:ρεβεγιόν, στο, lzy, "club."
LOCATION:LAZY CLUB
WEBSITE:
URL:
CONTACT:210 6895535
ORGANIZER;CN="Spiros Dramitinos":https://blues.gr/profile/SpirosDramit
 inos
ATTACH;FMTTYPE="image/jpeg":http://storage.ning.com/topology/rest/1.0/
 file/get/2253001912?profile=original
ATTENDEE;ROLE=REQ-PARTICIPANT;PARTSTAT=ACCEPTED;RSVP=TRUE;CN="Spiros D
 ramitinos":https://blues.gr/profile/SpirosDramitinos
END:VEVENT
END:VCALENDAR
