BEGIN:VCALENDAR
PRODID:NingEventWidget-v1
VERSION:2.0
METHOD:PUBLISH
BEGIN:VTIMEZONE
TZID:Europe/Athens
X-LIC-LOCATION:Europe/Athens
BEGIN:DAYLIGHT
TZOFFSETFROM:+0200
TZOFFSETTO:+0300
TZNAME:EEST
DTSTART:19700329T030000
RRULE:FREQ=YEARLY;BYMONTH=3;BYDAY=-1SU
END:DAYLIGHT
BEGIN:STANDARD
TZOFFSETFROM:+0300
TZOFFSETTO:+0200
TZNAME:EET
DTSTART:19701025T040000
RRULE:FREQ=YEARLY;BYMONTH=10;BYDAY=-1SU
END:STANDARD
END:VTIMEZONE
BEGIN:VEVENT
UID:1982923:Event:126443
DTSTAMP:20260419T195412Z
SUMMARY:Lemonade on stage live at Babi's Jazz Cafe
DESCRIPTION:A country blues live event, at Babi's\n\nFor more informat
 ion visit https://blues.gr/events/lemonade-on-stage-live-at-babi-s-jaz
 z-cafe
DTSTART;TZID=Europe/Athens:20111208T000000
DTEND;TZID=Europe/Athens:20111208T235900
CATEGORIES:"country/blues", live
LOCATION:Aridea cypress ave. 14 at Babi's Jazz Cafe
WEBSITE:
URL:
CONTACT:
ORGANIZER;CN="babis Simply  Blue":https://blues.gr/profile/MPAMPES
ATTACH;FMTTYPE="image/jpeg":http://storage.ning.com/topology/rest/1.0/
 file/get/2252971724?profile=original
ATTENDEE;ROLE=REQ-PARTICIPANT;PARTSTAT=ACCEPTED;RSVP=TRUE;CN="Philip M
 ouzas":https://blues.gr/profile/PhilipMouzas
ATTENDEE;ROLE=REQ-PARTICIPANT;PARTSTAT=ACCEPTED;RSVP=TRUE;CN="babis Si
 mply  Blue":https://blues.gr/profile/MPAMPES
END:VEVENT
END:VCALENDAR
