BEGIN:VCALENDAR
PRODID:NingEventWidget-v1
VERSION:2.0
METHOD:PUBLISH
BEGIN:VTIMEZONE
TZID:Europe/Athens
X-LIC-LOCATION:Europe/Athens
BEGIN:DAYLIGHT
TZOFFSETFROM:+0200
TZOFFSETTO:+0300
TZNAME:EEST
DTSTART:19700329T030000
RRULE:FREQ=YEARLY;BYMONTH=3;BYDAY=-1SU
END:DAYLIGHT
BEGIN:STANDARD
TZOFFSETFROM:+0300
TZOFFSETTO:+0200
TZNAME:EET
DTSTART:19701025T040000
RRULE:FREQ=YEARLY;BYMONTH=10;BYDAY=-1SU
END:STANDARD
END:VTIMEZONE
BEGIN:VEVENT
UID:1982923:Event:25251
DTSTAMP:20260419T195052Z
SUMMARY:Les Skartoi Rocksteady Orchestra Live
DESCRIPTION:Les Skartoi Rocksteady Orchestra opens the Tonino Carotone
 's live at Patras\n\nFor more information visit https://blues.gr/event
 s/les-skartoi-rocksteady-1
DTSTART;TZID=Europe/Athens:20090507T223000
DTEND;TZID=Europe/Athens:20090507T233000
CATEGORIES:live, support
LOCATION:Akti Dymaiwn
WEBSITE:
URL:
CONTACT:2610-240994
ORGANIZER:mojo radio
ATTACH;FMTTYPE="image/jpeg":http://storage.ning.com/topology/rest/1.0/
 file/get/2252937086?profile=original
ATTENDEE;ROLE=REQ-PARTICIPANT;PARTSTAT=ACCEPTED;RSVP=TRUE;CN=Costas:ht
 tps://blues.gr/profile/Costas
ATTENDEE;ROLE=REQ-PARTICIPANT;PARTSTAT=ACCEPTED;RSVP=TRUE;CN="Drummati
 c Style":https://blues.gr/profile/style
END:VEVENT
END:VCALENDAR
