BEGIN:VCALENDAR
PRODID:NingEventWidget-v1
VERSION:2.0
METHOD:PUBLISH
BEGIN:VTIMEZONE
TZID:Europe/Athens
X-LIC-LOCATION:Europe/Athens
BEGIN:DAYLIGHT
TZOFFSETFROM:+0200
TZOFFSETTO:+0300
TZNAME:EEST
DTSTART:19700329T030000
RRULE:FREQ=YEARLY;BYMONTH=3;BYDAY=-1SU
END:DAYLIGHT
BEGIN:STANDARD
TZOFFSETFROM:+0300
TZOFFSETTO:+0200
TZNAME:EET
DTSTART:19701025T040000
RRULE:FREQ=YEARLY;BYMONTH=10;BYDAY=-1SU
END:STANDARD
END:VTIMEZONE
BEGIN:VEVENT
UID:1982923:Event:175473
DTSTAMP:20260421T233100Z
SUMMARY:Limpin Express @ Life Jazzy Bar
DESCRIPTION:[URL=http://s286.photobucket.com/user/smallchestnut/media/
 lifejazzybarnu_zps47c905f0.jpg.html][IMG]http://i286.photobucket.com/a
 lbums/ll118/smallchestnut/lifejazzybarnu_zps47c905f0.jpg[/IMG][/URL]\n
 \n\nΟι Limpin Express, το Σάββατο 11 Μαϊου,ζωντα
 ά στο Life Jazzy Bar στην Πετρούπολη (Εθ.Αντί
 στασης 80 & 25ης Μαρτίου).Ώρα έναρξης - 22:30
 Είσοδος ΕλεύθερηΈχοντας πλέον σε κυκλ
 οφορία το album τους, θα εμφανιστούν στον
  χώρο του Life Jazzy Bar, για ένα live με το δικό
  τους υλικό, αλλά και διασκευές από γνω
 στά (και μη...) κομμάτια από όλο το φάσμα
  του rock και blues.Οι Limpin Express, είναι ένα power
  rock & blues trio, με δικό τους, κατά πολλούς or
 iginal ύφος, που εκτός από τα κομμάτια του
 ς, παρουσιάζουν ένα set ξεκινώντας από τ
 α κλασσικά blues του Son House και του Lightning Hop
 kins συνδυάζοντάς τα με τον τρόπο που εκ
 ράστηκαν από σχήματα και μουσικούς σα
 ν τους Allman Bros και J. Hendrix, φτάνοντας στο 
 ήμερα με τους Philip Sayce, Doyle Bramhall jr. κλπ...Ύ
 στερα από κάτι λιγότερο από δύο χρόνια
  ύπαρξης και αρκετά live, τον Ιούλιο του 2
 012 με τον Alex Ketenjian στην περίοπτη θέση το
 υ sound engineer, ξεκίνησαν να ηχογραφούν το 
 ρώτο, ακουστικό μέρος στα Unreal Studios, με 
 η συμμετοχή του Michael Dotson (Willie Kent, Big Jack Jo
 hnson, Billy Boy Arnold, Homesick James) και τον Νοέμβρι
  του ίδιου έτους, το δεύτερο και ηλεκτ
 ικό μέρος με το οποίο ολοκληρώθηκε το 
 album.Το mastering έγινε στα Sweetspot Studios από τον
  Γιάννη Χριστοδουλάτο.Φωτογραφία εξωφ
 ύλλων, Adam Slater.Το album κυκλοφόρησε στις 20 
 Απριλίου.Δείγμα του album στο:http://limpinexpress
 .bandcamp.com/LIFE Jazzy BarΕθνικής Αντίστασης 80 & 2
 5ης ΜαρτίουΠετρούποληΤηλ: 210 5012448από revi
 ew για το LifeLIFE jazz rock cafe στην Πετρούπολη
 γιατί αθήνα δεν είναι μόνο το κέντρο.Η
  μοναδική life ατμόσφαιρα και η ιδιαίτερ
 η αισθητική κάνουν αυτό το χώρο να ξεχ
 ρίζει, όπου πέτρα και φυσικό ξύλο συνθ
 έτουν ένα σκηνικό άξιο προσοχής.Jazz, Βlue
 s και Rock μουσική γεμίζει τον χώρο απο τ
  πρωί μέχρι αργά το βράδυ.Τα πλέον των 
 εκατό Live και Dj sets με τα μεγαλύτερα ονόμ
 ατα της ελληνικής και ξένης μουσικής σ
 κηνής, σε συνδιασμό με ενα υψηλής ποιό
 ητας ηχητικό σύστημα είναι ένας καλό 
 όγος για να επισκευθείτε το LIFE.Αυθεντ
 κός βενετσιάνικος espresso, τσάγια απο όλ
  τον κόσμο και μια απο τις μεγαλύτερες
  κάβες της νυχτερινής Αθήνας (με πάνω α
 πο 40 malt και μπύρες).\n\nFor more information visit https
 ://blues.gr/events/limpin-express-life-jazzy-bar
DTSTART;TZID=Europe/Athens:20130511T000000
DTEND;TZID=Europe/Athens:20130511T235900
CATEGORIES:live, gig
LOCATION:Πετρούπολη
WEBSITE:
URL:
CONTACT:210 5012448
ORGANIZER;CN=456:https://blues.gr/profile/LimpinExpress
ATTACH;FMTTYPE="image/jpeg":http://storage.ning.com/topology/rest/1.0/
 file/get/2253004765?profile=original
ATTENDEE;ROLE=REQ-PARTICIPANT;PARTSTAT=ACCEPTED;RSVP=TRUE;CN=456:https
 ://blues.gr/profile/LimpinExpress
END:VEVENT
END:VCALENDAR
