BEGIN:VCALENDAR
PRODID:NingEventWidget-v1
VERSION:2.0
METHOD:PUBLISH
BEGIN:VTIMEZONE
TZID:Europe/Athens
X-LIC-LOCATION:Europe/Athens
BEGIN:DAYLIGHT
TZOFFSETFROM:+0200
TZOFFSETTO:+0300
TZNAME:EEST
DTSTART:19700329T030000
RRULE:FREQ=YEARLY;BYMONTH=3;BYDAY=-1SU
END:DAYLIGHT
BEGIN:STANDARD
TZOFFSETFROM:+0300
TZOFFSETTO:+0200
TZNAME:EET
DTSTART:19701025T040000
RRULE:FREQ=YEARLY;BYMONTH=10;BYDAY=-1SU
END:STANDARD
END:VTIMEZONE
BEGIN:VEVENT
UID:1982923:Event:85639
DTSTAMP:20260422T050148Z
SUMMARY:LIVE 16/1/2011 - White Peppers + The Mules @ Lazy Club
DESCRIPTION:Με τη δυναμική παρουσία τους, το
 ν προσωπικό αισθησιακό και κρυστάλλιν
 ο\nήχο, τα ρυθμικά & \"ανεβαστικά\" τραγο
 δια τους αλλά και επιλεγμενες\nδιασκε
 ές από το χώρο της Funk - Blues - Rock μουσικής
 , οι White\nPeppers θα δώσουν με το δικό τους π
 άντα τρόπο ένα ακόμα live στο Lazy\nClub μετά 
 τις γιορτές στις 16/1/2011.Η εκπληκτική Φω
 ή και παρουσία της Ιλιάδας Καλαμαρά, η
  αυθεντική και χαρακτηριστική κιθάρα 
 αι φωνή του Τάκη Φακούδη, τα μ...αγικά\nP
 iano-Keyboards του Βασίλη Κοντοδήμου, το \"ανε
 βαστικό\" και \"μπιτάτο\"\nrhythm-session στο μπ
 άσο-ντραμς και κρουστά από τους Δημήτρ
 η Αντωνακάκη\n- Μάκη Κωνστάντη - Τίμο Κο
 ρονετόπουλο και τα φωνητικά της μπάντ
 ς θα\nσας ταξιδέψουν σε Blues-Funk-Rock κατασ
 άσεις!Μαζί τους οι\nατμοσφαιρικοί The Mul
 es που θα σας κάνουν να μη θέλετε να στα
 ατήσουν\nνα παίζουν τα καταπληκτικά cov
 er τραγούδια με τις κιθάρες τους!! Be\nThere.
 ..Feel Good...Ηot & Spicy Music!!\nLAZY CLUB - Λεωφ. Πεντέλ
 ης 1- Βριλήσσια\nAthens, Greece\nΑΠΕΝΑΝΤΙ ΑΠΟ Τ
 Ο ΓΗΠΕΔΟ ΧΑΛΑΝΔΡΙΟΥ / ΑΤΤΙΚΗ ΟΔΟΣ ΕΞΟΔ
 Σ 12\nOpen Doors: 21:00\nΕntrance: 10 euro\nDimitris Antonakakis: B
 assTakis Fakoudis: Singer-GuitarIliada Kalamara: SingerMakis Konstanti
 s: Singer-DrumsBasilis Kondodimos: Keybords-VocalsTimos Coronetopoylos
 : Percussions http://www.myspace.com/whitepepershttp://www.jumpingfish
 .gr/whitepeppershttp://www.reverbnation.com/whitepeppersBLUES-FUNK-ROC
 K-FUSION\n \n\n\nFor more information visit https://blues.gr/events/li
 ve-1612011-white-peppers
DTSTART;TZID=Europe/Athens:20110116T210000
DTEND;TZID=Europe/Athens:20110117T020000
CATEGORIES:live, "16/1/2011", -, white, peppers, "+", the, mules, "@",
  lazy, club
LOCATION:Λεωφ. Πεντέλης 1- Βριλήσσια
WEBSITE:http://maps.google.com/maps?f=d&source=s_d&saddr=%CE%9B%CE%B5%
 CF%89%CF%86%CF%8C%CF%81%CE%BF%CF%82+%CE%A0%CE%B5%CE%BD%CF%84%CE%AD%CE%
 BB%CE%B7%CF%82&daddr=%CE%9B%CE%B5%CF%89%CF%86%CF%8C%CF%81%CE%BF%CF%82+
 %CE%A0%CE%B5%CE%BD%CF%84%CE%AD%CE%BB%CE%B7%CF%82&hl=el&geocode=FYhaRAI
 d-4FrAQ%3BFR9bRAIdvYJrAQ&abauth=f918e380:bBUpQ4Rta6TkYnSkBZ3paGp-Kb4&m
 ra=ltm&doflg=ptm&vps=9&jsv=304d&sll=38.033262,23.826395&sspn=0.004141,
 0.009645&num=10
URL:http://maps.google.com/maps?f=d&source=s_d&saddr=%CE%9B%CE%B5%CF%8
 9%CF%86%CF%8C%CF%81%CE%BF%CF%82+%CE%A0%CE%B5%CE%BD%CF%84%CE%AD%CE%BB%C
 E%B7%CF%82&daddr=%CE%9B%CE%B5%CF%89%CF%86%CF%8C%CF%81%CE%BF%CF%82+%CE%
 A0%CE%B5%CE%BD%CF%84%CE%AD%CE%BB%CE%B7%CF%82&hl=el&geocode=FYhaRAId-4F
 rAQ%3BFR9bRAIdvYJrAQ&abauth=f918e380:bBUpQ4Rta6TkYnSkBZ3paGp-Kb4&mra=l
 tm&doflg=ptm&vps=9&jsv=304d&sll=38.033262,23.826395&sspn=0.004141,0.00
 9645&num=10
CONTACT:ΤΗΛ. 2106895535
ORGANIZER;CN="White Peppers":https://blues.gr/profile/WhitePeppers
ATTACH;FMTTYPE="image/jpeg":http://storage.ning.com/topology/rest/1.0/
 file/get/2252946227?profile=original
ATTENDEE;ROLE=REQ-PARTICIPANT;PARTSTAT=ACCEPTED;RSVP=TRUE;CN="Tsiamtsi
 kas Nikolaos":https://blues.gr/profile/TsiamtsikasNikolaos
ATTENDEE;ROLE=REQ-PARTICIPANT;PARTSTAT=ACCEPTED;RSVP=TRUE;CN=Makisk:ht
 tps://blues.gr/profile/Makisk
ATTENDEE;ROLE=REQ-PARTICIPANT;PARTSTAT=ACCEPTED;RSVP=TRUE;CN="White Pe
 ppers":https://blues.gr/profile/WhitePeppers
END:VEVENT
END:VCALENDAR
