BEGIN:VCALENDAR
PRODID:NingEventWidget-v1
VERSION:2.0
METHOD:PUBLISH
BEGIN:VTIMEZONE
TZID:Europe/Athens
X-LIC-LOCATION:Europe/Athens
BEGIN:DAYLIGHT
TZOFFSETFROM:+0200
TZOFFSETTO:+0300
TZNAME:EEST
DTSTART:19700329T030000
RRULE:FREQ=YEARLY;BYMONTH=3;BYDAY=-1SU
END:DAYLIGHT
BEGIN:STANDARD
TZOFFSETFROM:+0300
TZOFFSETTO:+0200
TZNAME:EET
DTSTART:19701025T040000
RRULE:FREQ=YEARLY;BYMONTH=10;BYDAY=-1SU
END:STANDARD
END:VTIMEZONE
BEGIN:VEVENT
UID:1982923:Event:81590
DTSTAMP:20260421T183346Z
SUMMARY:LIVE ALBATROSS
DESCRIPTION:ΕΝΑ ΜΟΥΣΙΚΟ ΤΑΞΙΔΙ 60 ΕΤΩΝ ΑΠΟ ΤΙ
 Σ ΑΡΧΕΣ ΤΟΥ 1950 ΕΩΣ ΚΑΙ ΤΟ ΣΗΜΕΡΑ ΣΤΟΛΙΣ
 ΜΕΝΟ ΑΠΟ ΤΙΣ ΜΠΛΟΥΖ ΡΟΚ ΑΠΟΧΡΩΣΕΙΣ ΤΟΥ
  ΘΑΝΟΥ ΠΛΟΥΜΠΗ ΚΙΘΑΡΑ ΚΑΙ ΦΩΝΗ ΔΗΜΗΤΡΗ
  ΜΑΛΛΗ:ΜΠΑΣΟ ΣΤΡΑΤΟΥ ΣΙΔΕΡΕΑ:ΝΤΡΑΜΣ ΜΑ
 ΙΡΗ ΜΕΝΤΖΟΥ:ΦΩΝΗ. ΕΝΑ ΓΚΡΟΥΠ ΜΕ ΑΠΟΨΗ Κ
 ΑΙ ΜΕ ΠΟΛΥ ΚΕΦΙ ΠΑΝΩ ΣΤΗΝ ΣΚΗΝΗ\n\nFor more i
 nformation visit https://blues.gr/events/live-albatross
DTSTART;TZID=Europe/Athens:20101203T223000
DTEND;TZID=Europe/Athens:20101204T020000
CATEGORIES:live, albatross
LOCATION:VINILION
WEBSITE:http://www.facebook.com/home.php?#!/event.php?eid=107406395999
 704
URL:http://www.facebook.com/home.php?#!/event.php?eid=107406395999704
CONTACT:2102692640
ORGANIZER;CN=Albatross:https://blues.gr/profile/Albatross
ATTACH;FMTTYPE="image/jpeg":http://storage.ning.com/topology/rest/1.0/
 file/get/2252946171?profile=original
ATTENDEE;ROLE=REQ-PARTICIPANT;PARTSTAT=ACCEPTED;RSVP=TRUE;CN=Albatross
 :https://blues.gr/profile/Albatross
END:VEVENT
END:VCALENDAR
