BEGIN:VCALENDAR
PRODID:NingEventWidget-v1
VERSION:2.0
METHOD:PUBLISH
BEGIN:VTIMEZONE
TZID:Europe/Athens
X-LIC-LOCATION:Europe/Athens
BEGIN:DAYLIGHT
TZOFFSETFROM:+0200
TZOFFSETTO:+0300
TZNAME:EEST
DTSTART:19700329T030000
RRULE:FREQ=YEARLY;BYMONTH=3;BYDAY=-1SU
END:DAYLIGHT
BEGIN:STANDARD
TZOFFSETFROM:+0300
TZOFFSETTO:+0200
TZNAME:EET
DTSTART:19701025T040000
RRULE:FREQ=YEARLY;BYMONTH=10;BYDAY=-1SU
END:STANDARD
END:VTIMEZONE
BEGIN:VEVENT
UID:1982923:Event:93704
DTSTAMP:20260422T004524Z
SUMMARY:LIVE AT IN VIVO..BLUES THERAPY-ROYAL BLUE  BAND...
DESCRIPTION:ΜΙΑ ΒΡΑΔΙΑ ΜΕ HOT ELECTRIC KAI SMOOTH BLUES\nCH
 ICAGO  AND JAZZ LINES ..BLUES THERAPY KAI\nROYAL BLUE..ΠΕΤΡΟΣ 
 ΥΡΙΑΣ.ΚΙΘ-ΒΙΚΥ ΛΕΚΚΑ ΦΩΝΗ-ΧΡΗΣΤΟΣ ΒΑΛ
 Σ ΤΥΜΠ-ΣΠΥΡΟΣ ΜΠΑΣΣΟ...\nGUEST ΣΤΟΥΣ BLUES THER
 APY..ΝΩΝΤΑΣ ΒΟΡΛΟΚΑΣ HARP...\n\nFor more information vis
 it https://blues.gr/events/live-at-in-vivoblues
DTSTART;TZID=Europe/Athens:20110402T220000
DTEND;TZID=Europe/Athens:20110403T010000
CATEGORIES:live
LOCATION:IN VIVO LIVE CLUB  ΧΑΡ.ΤΡΙΚΟΥΠΗ 79 ΜΕΘΩΝΗΣ 
 ΚΑΙ ΕΞΑΡΧΕΙΑ ΤΗΛ 2103822 103 ΕΙΣΟΔΟΣ 6 ΕΥΡΩ
WEBSITE:
URL:
CONTACT:
ORGANIZER;CN="tony dollaro":https://blues.gr/profile/tonydollaro
ATTACH;FMTTYPE="image/jpeg":http://storage.ning.com/topology/rest/1.0/
 file/get/2252949989?profile=original
ATTENDEE;ROLE=REQ-PARTICIPANT;PARTSTAT=ACCEPTED;RSVP=TRUE;CN="tony dol
 laro":https://blues.gr/profile/tonydollaro
END:VEVENT
END:VCALENDAR
