BEGIN:VCALENDAR
PRODID:NingEventWidget-v1
VERSION:2.0
METHOD:PUBLISH
BEGIN:VTIMEZONE
TZID:Europe/Athens
X-LIC-LOCATION:Europe/Athens
BEGIN:DAYLIGHT
TZOFFSETFROM:+0200
TZOFFSETTO:+0300
TZNAME:EEST
DTSTART:19700329T030000
RRULE:FREQ=YEARLY;BYMONTH=3;BYDAY=-1SU
END:DAYLIGHT
BEGIN:STANDARD
TZOFFSETFROM:+0300
TZOFFSETTO:+0200
TZNAME:EET
DTSTART:19701025T040000
RRULE:FREQ=YEARLY;BYMONTH=10;BYDAY=-1SU
END:STANDARD
END:VTIMEZONE
BEGIN:VEVENT
UID:1982923:Event:26734
DTSTAMP:20260423T201828Z
SUMMARY:Live At LAZY
DESCRIPTION:Texas Brothers will be on stage again at LAZY!\n\nFor more
  information visit https://blues.gr/events/live-at-lazy
DTSTART;TZID=Europe/Athens:20090531T230000
DTEND;TZID=Europe/Athens:20090601T030000
CATEGORIES:live
LOCATION:Leoforos pentelis 1 vrillisia
WEBSITE:
URL:
CONTACT:
ORGANIZER;CN="Texas Brothers":https://blues.gr/profile/TexasBrothers
ATTACH;FMTTYPE="image/jpeg":http://storage.ning.com/topology/rest/1.0/
 file/get/2252936950?profile=original
ATTENDEE;ROLE=REQ-PARTICIPANT;PARTSTAT=ACCEPTED;RSVP=TRUE;CN="Texas Br
 others":https://blues.gr/profile/TexasBrothers
END:VEVENT
END:VCALENDAR
