BEGIN:VCALENDAR
PRODID:NingEventWidget-v1
VERSION:2.0
METHOD:PUBLISH
BEGIN:VTIMEZONE
TZID:Europe/Athens
X-LIC-LOCATION:Europe/Athens
BEGIN:DAYLIGHT
TZOFFSETFROM:+0200
TZOFFSETTO:+0300
TZNAME:EEST
DTSTART:19700329T030000
RRULE:FREQ=YEARLY;BYMONTH=3;BYDAY=-1SU
END:DAYLIGHT
BEGIN:STANDARD
TZOFFSETFROM:+0300
TZOFFSETTO:+0200
TZNAME:EET
DTSTART:19701025T040000
RRULE:FREQ=YEARLY;BYMONTH=10;BYDAY=-1SU
END:STANDARD
END:VTIMEZONE
BEGIN:VEVENT
UID:1982923:Event:90432
DTSTAMP:20260419T162543Z
SUMMARY:LIVE BLUES JAMMIN'
DESCRIPTION:Rhythm'n'blues,Country,Folk,R'N'R,Reggae Jammin' με το
 υς JAMMERS.\nALLEY Bar ,στην Πρέβεζα, μετά τις 22:
 00\n\nFor more information visit https://blues.gr/events/live-blues-ja
 mmin-2
DTSTART;TZID=Europe/Athens:20110126T220000
DTEND;TZID=Europe/Athens:20110127T020000
CATEGORIES:live, blues, "jammin'"
LOCATION:Preveza
WEBSITE:
URL:
CONTACT:
ORGANIZER;CN="Evan Tsiggos":https://blues.gr/profile/EvanTsiggos
ATTACH;FMTTYPE="image/jpeg":http://storage.ning.com/topology/rest/1.0/
 file/get/2252948647?profile=original
ATTENDEE;ROLE=REQ-PARTICIPANT;PARTSTAT=ACCEPTED;RSVP=TRUE;CN="Evan Tsi
 ggos":https://blues.gr/profile/EvanTsiggos
END:VEVENT
END:VCALENDAR
