BEGIN:VCALENDAR
PRODID:NingEventWidget-v1
VERSION:2.0
METHOD:PUBLISH
BEGIN:VTIMEZONE
TZID:Europe/Athens
X-LIC-LOCATION:Europe/Athens
BEGIN:DAYLIGHT
TZOFFSETFROM:+0200
TZOFFSETTO:+0300
TZNAME:EEST
DTSTART:19700329T030000
RRULE:FREQ=YEARLY;BYMONTH=3;BYDAY=-1SU
END:DAYLIGHT
BEGIN:STANDARD
TZOFFSETFROM:+0300
TZOFFSETTO:+0200
TZNAME:EET
DTSTART:19701025T040000
RRULE:FREQ=YEARLY;BYMONTH=10;BYDAY=-1SU
END:STANDARD
END:VTIMEZONE
BEGIN:VEVENT
UID:1982923:Event:101816
DTSTAMP:20260420T072340Z
SUMMARY:Live Blues Jammin'
DESCRIPTION:Στο Καναλάκι,Πρέβεζα\n\nFor more informa
 tion visit https://blues.gr/events/live-blues-jammin-3
DTSTART;TZID=Europe/Athens:20110420T100000
DTEND;TZID=Europe/Athens:20110420T140000
CATEGORIES:blues, "jammin'", με, τους, the, jammers, duo
LOCATION:Kanalaki,Preveza
WEBSITE:
URL:
CONTACT:
ORGANIZER;CN="Evan Tsiggos":https://blues.gr/profile/EvanTsiggos
ATTACH;FMTTYPE="image/jpeg":http://storage.ning.com/topology/rest/1.0/
 file/get/2252950060?profile=original
ATTENDEE;ROLE=REQ-PARTICIPANT;PARTSTAT=ACCEPTED;RSVP=TRUE;CN="Evan Tsi
 ggos":https://blues.gr/profile/EvanTsiggos
END:VEVENT
END:VCALENDAR
