BEGIN:VCALENDAR
PRODID:NingEventWidget-v1
VERSION:2.0
METHOD:PUBLISH
BEGIN:VTIMEZONE
TZID:Europe/Athens
X-LIC-LOCATION:Europe/Athens
BEGIN:DAYLIGHT
TZOFFSETFROM:+0200
TZOFFSETTO:+0300
TZNAME:EEST
DTSTART:19700329T030000
RRULE:FREQ=YEARLY;BYMONTH=3;BYDAY=-1SU
END:DAYLIGHT
BEGIN:STANDARD
TZOFFSETFROM:+0300
TZOFFSETTO:+0200
TZNAME:EET
DTSTART:19701025T040000
RRULE:FREQ=YEARLY;BYMONTH=10;BYDAY=-1SU
END:STANDARD
END:VTIMEZONE
BEGIN:VEVENT
UID:1982923:Event:151863
DTSTAMP:20260422T051900Z
SUMMARY:Live Blues Music
DESCRIPTION:The Jammers Blues are back at Kamini this Wednesday 8th Au
 gust for more amazing LIVE BLUES MUSIC! Join us from 22.30 for the bes
 t blues in town.....\n\nFor more information visit https://blues.gr/ev
 ents/live-blues-music
DTSTART;TZID=Europe/Athens:20120808T223000
DTEND;TZID=Europe/Athens:20120809T023000
CATEGORIES:live, blues
LOCATION:Kamini Bar
WEBSITE:https://www.facebook.com/events/140291472777835/
URL:https://www.facebook.com/events/140291472777835/
CONTACT:2684031331
ORGANIZER;CN="Timos Spanos":https://blues.gr/profile/TimosSpanos
ATTACH;FMTTYPE="image/jpeg":http://storage.ning.com/topology/rest/1.0/
 file/get/2252994197?profile=original
ATTENDEE;ROLE=REQ-PARTICIPANT;PARTSTAT=ACCEPTED;RSVP=TRUE;CN="Timos Sp
 anos":https://blues.gr/profile/TimosSpanos
END:VEVENT
END:VCALENDAR
