BEGIN:VCALENDAR
PRODID:NingEventWidget-v1
VERSION:2.0
METHOD:PUBLISH
BEGIN:VTIMEZONE
TZID:Europe/Athens
X-LIC-LOCATION:Europe/Athens
BEGIN:DAYLIGHT
TZOFFSETFROM:+0200
TZOFFSETTO:+0300
TZNAME:EEST
DTSTART:19700329T030000
RRULE:FREQ=YEARLY;BYMONTH=3;BYDAY=-1SU
END:DAYLIGHT
BEGIN:STANDARD
TZOFFSETFROM:+0300
TZOFFSETTO:+0200
TZNAME:EET
DTSTART:19701025T040000
RRULE:FREQ=YEARLY;BYMONTH=10;BYDAY=-1SU
END:STANDARD
END:VTIMEZONE
BEGIN:VEVENT
UID:1982923:Event:25459
DTSTAMP:20260419T162548Z
SUMMARY:Live Sat 9/5 @ Elegance w/ George & the Dukes + Muddy Roads
DESCRIPTION:Live Sat 9/5 @ Elegance\nGeorge & the Dukes - Blues with a
  feeling !\n\nOpening act - Muddy Roads\n\nCome feel the Blues with us
 ...\nElegance Liveclub, Kifisias 119, Marousi\nTime 23.00\n\n-- Elegan
 ce Live Club -- http://www.myspace.com/eleganceathens\n-- George and t
 he Dukes -- http://www.myspace.com/georgeanddukes\n-- Muddy Roads -- h
 ttp://www.myspace.com/muddyroadsband\n\nFor more information visit htt
 ps://blues.gr/events/live-sat-95-elegance-w-george
DTSTART;TZID=Europe/Athens:20090509T230000
DTEND;TZID=Europe/Athens:20090510T020000
CATEGORIES:live
LOCATION:Elegance Liveclub
WEBSITE:
URL:
CONTACT:
ORGANIZER:Elegance Live Club
ATTACH;FMTTYPE="image/jpeg":http://storage.ning.com/topology/rest/1.0/
 file/get/2252937368?profile=original
ATTENDEE;ROLE=REQ-PARTICIPANT;PARTSTAT=ACCEPTED;RSVP=TRUE;CN=Panos:htt
 ps://blues.gr/profile/Panos
ATTENDEE;ROLE=REQ-PARTICIPANT;PARTSTAT=ACCEPTED;RSVP=TRUE;CN="Petros M
 atsakos":https://blues.gr/profile/PetrosMatsakos
END:VEVENT
END:VCALENDAR
