BEGIN:VCALENDAR
PRODID:NingEventWidget-v1
VERSION:2.0
METHOD:PUBLISH
BEGIN:VTIMEZONE
TZID:Europe/Athens
X-LIC-LOCATION:Europe/Athens
BEGIN:DAYLIGHT
TZOFFSETFROM:+0200
TZOFFSETTO:+0300
TZNAME:EEST
DTSTART:19700329T030000
RRULE:FREQ=YEARLY;BYMONTH=3;BYDAY=-1SU
END:DAYLIGHT
BEGIN:STANDARD
TZOFFSETFROM:+0300
TZOFFSETTO:+0200
TZNAME:EET
DTSTART:19701025T040000
RRULE:FREQ=YEARLY;BYMONTH=10;BYDAY=-1SU
END:STANDARD
END:VTIMEZONE
BEGIN:VEVENT
UID:1982923:Event:41239
DTSTAMP:20260421T202127Z
SUMMARY:Loose Rag στου ΜισσιΨυρρή.....19/2
DESCRIPTION:Μια βραδιά (μισο)γεμάτη δυνατό Bl
 ues (με τζούρες ροκ) από τους Loose Rag.\nΘα χα
 ρούμε να σας δούμε εκεί.\n\nFor more information vi
 sit https://blues.gr/events/loose-rag-stoy-missipsyrrhe192
DTSTART;TZID=Europe/Athens:20100219T213000
DTEND;TZID=Europe/Athens:20100220T001500
CATEGORIES:live
LOCATION:Αφανείς Bar
WEBSITE:http://www.myspace.com/looserag
URL:http://www.myspace.com/looserag
CONTACT:
ORGANIZER:Loose Rag
ATTACH;FMTTYPE="image/jpeg":http://storage.ning.com/topology/rest/1.0/
 file/get/2252939008?profile=original
ATTENDEE;ROLE=REQ-PARTICIPANT;PARTSTAT=ACCEPTED;RSVP=TRUE;CN="Blue Sid
 e Band":https://blues.gr/profile/Blue_label_society
ATTENDEE;ROLE=REQ-PARTICIPANT;PARTSTAT=ACCEPTED;RSVP=TRUE;CN=Audiokost
 as:https://blues.gr/profile/Audiokostas
END:VEVENT
END:VCALENDAR
