BEGIN:VCALENDAR
PRODID:NingEventWidget-v1
VERSION:2.0
METHOD:PUBLISH
BEGIN:VTIMEZONE
TZID:Europe/Athens
X-LIC-LOCATION:Europe/Athens
BEGIN:DAYLIGHT
TZOFFSETFROM:+0200
TZOFFSETTO:+0300
TZNAME:EEST
DTSTART:19700329T030000
RRULE:FREQ=YEARLY;BYMONTH=3;BYDAY=-1SU
END:DAYLIGHT
BEGIN:STANDARD
TZOFFSETFROM:+0300
TZOFFSETTO:+0200
TZNAME:EET
DTSTART:19701025T040000
RRULE:FREQ=YEARLY;BYMONTH=10;BYDAY=-1SU
END:STANDARD
END:VTIMEZONE
BEGIN:VEVENT
UID:1982923:Event:20262
DTSTAMP:20260423T084707Z
SUMMARY:LOUISIANA RED - BIRTHDAY TOUR 2009 with THE BLUES WIRE
DESCRIPTION:LOUISIANA RED\n\nΟ Louisiana Red έρχεται στην 
 Ελλάδα κάθε χρόνο από το 1987 και αποτελ
 ί χωρίς\nαμφιβολία μία από τις περισσό
 τερο σημαντικές προσωπικότητες του μπ
 λουζ.\nΠεριοδεύει ασταμάτητα όλο το χρ
 νο από ήπειρο σε ήπειρο, τραγουδώντας 
 τα δικά του βιώματα και παίζοντας με δ
 κάδες μπάντες και μουσικούς.\nΉδη στη 
 ώρα μας υπάρχει ένα άλμπουμ του με τον
  Στέλιο Βαμβακάρη και ένα με τον Ζωρζ Π
 ιλαλί, ενώ η συμμετοχή του στην παρουσ
 αση των Blue Evenings στο Μέγαρο Μουσικής το
  Δεκέμβριο του 1996 ήταν συγκλονιστική.\n
 Η μουσική του δραστηριότητα αρχίζει σ
 α πρώτα χρόνια της δεκαετίας του'40,\nότ
 αν πιτσιρικάς παίζει φυσαρμόνικα και 
 ιθάρα στους δρόμους για πενταροδεκάρ
 ς.\nΤο 1948 γνωρίζει τον Muddy Waters ο οποίος 
 οητεύεται από τον πεισματάρη δωδεκάχ
 ονο ορφανό και του μαθαίνει όλα όσα ξέ
 ρει, περιθάλποντας τον σαν το πνευματι
 κό του παιδί.\nΣήμερα, ο Louisiana Red είναι ο 
 μοναδικός μουσικός στα δεδομένα του μ
 λουζ, που παίζει σλάιντ κιθάρα, όπως α
 ριβώς και ο Muddy.\nΚαταλυτικές υπήρξαν ε
 πίσης και οι συνεργασίες του με τον John 
 Lee Hooker και τον Jimmy Reed.\nΣτη δεκαετία του '
 50 αρχίζει να ηχογραφεί με το ψευδώνυμο
  Crying Red ή Playboy Fuller. Στη συνέχεια υιοθετε
  το Louisiana Red, είτε λόγω της Ινδιάνικης κ
 αταγωγής του, είτε εξαιτίας της σοσιαλ
 ιστικής του ιδεολογίας και δράσης στο 
 κίνημα των Black Muslims και του Rev.Ike, στις αρ
 χές της δεκαετίας του '60.\nΦεστιβάλ και 
 περιοδείες με τους Albert King, Johnny Winter, Rory Ga
 llagher, Eric Burdon, με τον οποίο και συμπρωταγ
 ωνιστεί στην ταινία \"Comeback\" και η τελικ
 ή δικαίωση με το βραβείο W.C.Handy σαν ο κα
 ύτερος παραδοσιακός καλλιτέχνης του 
 πλουζ.\nΟ Louisiana Red είναι ένας μοναδικός 
 φίλος για όσους τον γνώρισαν από κοντά
  - και είναι πολλοί αυτοί στην Ελλάδα - 
 αι ένας ξεχωριστός και μεγάλος καλλιτ
 έχνης.\n\nFor more information visit https://blues.gr/events/loui
 siana-red-birthday-tour-2
DTSTART;TZID=Europe/Athens:20090322T230000
DTEND;TZID=Europe/Athens:20090323T010000
CATEGORIES:show
LOCATION:ΘΕΑ BAR
WEBSITE:
URL:
CONTACT:
ORGANIZER;CN="JOHN ANGELATOS-Red Rooster Prod.":https://blues.gr/profi
 le/JohnAngelatos
ATTACH;FMTTYPE="image/jpeg":http://storage.ning.com/topology/rest/1.0/
 file/get/2252936075?profile=original
ATTENDEE;ROLE=REQ-PARTICIPANT;PARTSTAT=ACCEPTED;RSVP=TRUE;CN=TUBESCREA
 MERS:https://blues.gr/profile/TUBESCREAMERS
ATTENDEE;ROLE=REQ-PARTICIPANT;PARTSTAT=ACCEPTED;RSVP=TRUE;CN="JOHN ANG
 ELATOS-Red Rooster Prod.":https://blues.gr/profile/JohnAngelatos
END:VEVENT
END:VCALENDAR
