BEGIN:VCALENDAR
PRODID:NingEventWidget-v1
VERSION:2.0
METHOD:PUBLISH
BEGIN:VTIMEZONE
TZID:Europe/Athens
X-LIC-LOCATION:Europe/Athens
BEGIN:DAYLIGHT
TZOFFSETFROM:+0200
TZOFFSETTO:+0300
TZNAME:EEST
DTSTART:19700329T030000
RRULE:FREQ=YEARLY;BYMONTH=3;BYDAY=-1SU
END:DAYLIGHT
BEGIN:STANDARD
TZOFFSETFROM:+0300
TZOFFSETTO:+0200
TZNAME:EET
DTSTART:19701025T040000
RRULE:FREQ=YEARLY;BYMONTH=10;BYDAY=-1SU
END:STANDARD
END:VTIMEZONE
BEGIN:VEVENT
UID:1982923:Event:96126
DTSTAMP:20260421T184249Z
SUMMARY:LOUISIANA RED BIRTHDAY TOUR 2011
DESCRIPTION: \nLOUISIANA RED BIRTHDAY TOUR 2011\n\nO Louisiana Red, 
 ροσκεκλημένος της Red Rooster, επισκέπτετα
 ι την Ελλάδα από το 1987.Αποτελεί χωρίς α
 μφιβολία μία από τις περισσότερο σημα
 τικές προσωπικότητες του μπλουζ, έναν
  από τους τελευταίους αυθεντικούς legenda
 ry bluesmen.Κάθε χρόνο περιοδεύει ασταμάτη
 α από ήπειρο σε ήπειρο, τραγουδώντας τ
 α δικά του βιώματα και ηχογραφώντας τα
  σε άλμπουμ υψηλών προδιαγραφών.Δεν εί
 ναι παράξενο ότι τόσο το ηλεκτρικό του
  άλμπουμ “Back to the black bayou”, όσο και το ακ
 ουστικό “You got to move” με τον πιανίστα Davi
 d Maxwell, ανακηρύχθηκαν από το Blues Foundation σ
 ν τα καλύτερα του 2010 στις αντίστοιχες 
 κατηγορίες.Ο ίδιος έχει δικαιωθεί με τ
 ο βραβείο W.C.Handy σαν ο καλύτερος παραδο
 ιακός καλλιτέχνης του μπλουζ.Ήδη στη 
 ώρα μας υπάρχει ένα άλμπουμ του με τον
  Στέλιο Βαμβακάρη και ένα με τον Ζωρζ Π
 ιλαλί, ενώ η συμμετοχή του στην παρουσ
 αση των Blue Evenings στο Μέγαρο Μουσικής το
  Δεκέμβριο του 1996 ήταν συγκλονιστική.Τ
 α τραγούδια του Red είναι τα καθρεφτίσμ
 τα της ζωής του.Γεννιέται σα Iverson Minter σ
 τα 1932 στην Bessema, της Alabama.Η μητέρα του πε
 θαίνει μια βδομάδα μετά τη γέννα του, ε
 νώ στα 1942 ο πατέρας του σκοτώνεται από 
 την Ku-Klux-Klan.Ο Red μεγαλώνει σε ορφανοτρο
 είο, κοιμάται στους δρόμους και κλέβε
  για να ζήσει.Η αστυνομία που τον συλλ
 μβάνει τον βάζει στο δίλημμα φυλακή η 
 στρατός και ο Red βρίσκεται να πολεμάει 
 στη Κορέα, όπου και τραυματίζεται.Η μο
 σική του δραστηριότητα αρχίζει στα πρ
 ώτα χρόνια της δεκαετίας του '40,όταν πι
 τσιρικάς παίζει φυσαρμόνικα και κιθάρ
 α στους δρόμους για πενταροδεκάρες.Το 
 1948 γνωρίζει τον Muddy Waters, ο οποίος γοητε
 εται από τον πεισματάρη δωδεκάχρονο ο
 ρφανό και του μαθαίνει όλα όσα ξέρει, π
 εριθάλποντας τον σαν το πνευματικό το
  παιδί.Σήμερα, ο Louisiana Red είναι ο μοναδι
 κός μουσικός του μπλουζ που παίζει σλά
 ιντ, όπως ακριβώς και ο Muddy.Στη δεκαετί
  του '50 αρχίζει να ηχογραφεί με το ψευδ
 ώνυμο Crying Red ή Playboy Fuller. Στη συνέχεια υι
 θετεί το Louisiana Red, είτε λόγω της Ινδιάν
 κης καταγωγής του, είτε εξαιτίας της σ
 οσιαλιστικής του ιδεολογίας και δράση
 ς στο κίνημα των Black Muslims και του Rev.Ike, σ
 ις αρχές της δεκαετίας του '60.Φεστιβάλ
  και περιοδείες με τους Albert King, Johnny Winter,
  Rory Gallagher, Eric Burdon, με τον οποίο και συμπρ
 ωταγωνιστεί στην ταινία \"Comeback\" και κα
 αλυτικές συνεργασίες με τον John Lee Hooker 
 αι τον Jimmy Reed.Ο Louisiana Red είναι ένας μονα
 ικός φίλος για όσους τον γνώρισαν από 
 κοντά - και είναι πολλοί αυτοί στην Ελλ
 άδα - και ένας ξεχωριστός και μεγάλος κ
 αλλιτέχνης.Ο Louisiana Red είναι τα Blues!http://www
 .louisiana-red.com/index.php?id=2\n\nFor more information visit https:
 //blues.gr/events/louisiana-red-birthday-tour-24
DTSTART;TZID=Europe/Athens:20110323T230000
DTEND;TZID=Europe/Athens:20110324T130000
CATEGORIES:blues
LOCATION:ΤΡΙΚΑΛΑ - ΚΕΝΤΡΙΚΗ ΠΛΑΤΕΙΑ
WEBSITE:
URL:
CONTACT:
ORGANIZER;CN="JOHN ANGELATOS-Red Rooster Prod.":https://blues.gr/profi
 le/JohnAngelatos
ATTACH;FMTTYPE="image/jpeg":http://storage.ning.com/topology/rest/1.0/
 file/get/2252948672?profile=original
ATTENDEE;ROLE=REQ-PARTICIPANT;PARTSTAT=ACCEPTED;RSVP=TRUE;CN="Marios S
 piliotopoulos":https://blues.gr/profile/MariosSpiliotopoulos
ATTENDEE;ROLE=REQ-PARTICIPANT;PARTSTAT=ACCEPTED;RSVP=TRUE;CN="JOHN ANG
 ELATOS-Red Rooster Prod.":https://blues.gr/profile/JohnAngelatos
END:VEVENT
END:VCALENDAR
