BEGIN:VCALENDAR
PRODID:NingEventWidget-v1
VERSION:2.0
METHOD:PUBLISH
BEGIN:VTIMEZONE
TZID:Europe/Athens
X-LIC-LOCATION:Europe/Athens
BEGIN:DAYLIGHT
TZOFFSETFROM:+0200
TZOFFSETTO:+0300
TZNAME:EEST
DTSTART:19700329T030000
RRULE:FREQ=YEARLY;BYMONTH=3;BYDAY=-1SU
END:DAYLIGHT
BEGIN:STANDARD
TZOFFSETFROM:+0300
TZOFFSETTO:+0200
TZNAME:EET
DTSTART:19701025T040000
RRULE:FREQ=YEARLY;BYMONTH=10;BYDAY=-1SU
END:STANDARD
END:VTIMEZONE
BEGIN:VEVENT
UID:1982923:Event:94749
DTSTAMP:20260421T220513Z
SUMMARY:LOUISIANA RED BIRTHDAY TOUR 2011
DESCRIPTION:LOUISIANA RED BIRTHDAY TOUR 2011\n \nO Louisiana Red, π
 οσκεκλημένος της Red Rooster, επισκέπτεται
  την Ελλάδα από το 1987.\nΑποτελεί  χωρίς 
 αμφιβολία μία από τις  περισσότερο ση
 αντικές  προσωπικότητες του μπλουζ, έ
 ναν από τους τελευταίους αυθεντικούς l
 egendary bluesmen.\nΚάθε χρόνο περιοδεύει αστα
 άτητα από  ήπειρο σε ήπειρο, τραγουδώ
 τας τα δικά του βιώματα και ηχογραφών
 ας τα σε άλμπουμ υψηλών προδιαγραφών.\
 nΔεν είναι παράξενο ότι τόσο το ηλεκτρ
 κό του άλμπουμ “Back to the black bayou”, όσο κα
 ι το ακουστικό “You got to move” με τον πιαν
 στα David Maxwell, ανακηρύχθηκαν από το Blues Fo
 undation σαν τα καλύτερα του 2010 στις αντίσ
 οιχες κατηγορίες.\nΟ ίδιος έχει δικαιω
 θεί με το βραβείο W.C.Handy σαν ο καλύτερος
  παραδοσιακός καλλιτέχνης του μπλουζ.\
 nΉδη στη χώρα μας υπάρχει ένα άλμπουμ τ
 ου με τον Στέλιο Βαμβακάρη και ένα με τ
 ον Ζωρζ Πιλαλί, ενώ η συμμετοχή του στη
 ν παρουσίαση των Blue Evenings στο Μέγαρο Μο
 σικής το Δεκέμβριο του 1996 ήταν συγκλο
 ιστική.\nΤα τραγούδια του Red είναι τα κ
 θρεφτίσματα της ζωής του.\nΓεννιέται σ
 α Iverson Minter στα 1932 στην Bessema, της Alabama.\nΗ μ
 ητέρα του πεθαίνει μια βδομάδα μετά τη
  γέννα του, ενώ στα 1942  ο πατέρας του σκ
 οτώνεται από την Ku-Klux-Klan.\nΟ Red μεγαλώνε
  σε ορφανοτροφείο, κοιμάται στους δρό
 ους και κλέβει για να ζήσει.\nΗ αστυνομ
 ία που τον συλλαμβάνει τον βάζει στο δ
 λημμα φυλακή η στρατός και ο Red βρίσκε
 αι να πολεμάει στη Κορέα, όπου και τρα
 ματίζεται.\nΗ μουσική του δραστηριότη
 α αρχίζει στα πρώτα χρόνια της δεκαετ
 ας του '40,\nόταν πιτσιρικάς παίζει φυσα
 ρμόνικα και κιθάρα στους δρόμους για π
 ενταροδεκάρες.\nΤο 1948 γνωρίζει τον Muddy W
 aters, ο οποίος γοητεύεται από τον πεισμα
 τάρη δωδεκάχρονο ορφανό και του μαθαί
 ει όλα όσα ξέρει, περιθάλποντας τον σα
 ν το πνευματικό του παιδί.\nΣήμερα, ο Loui
 siana Red είναι ο μοναδικός μουσικός του μ
 λουζ που παίζει σλάιντ, όπως ακριβώς κ
 αι ο Muddy.\nΣτη δεκαετία του '50 αρχίζει να
  ηχογραφεί με το ψευδώνυμο Crying Red ή Playboy
  Fuller.                               
                                    
                                    
                                  Στ
  συνέχεια υιοθετεί το Louisiana Red, είτε λό
 ω της Ινδιάνικης καταγωγής του, είτε ε
 ξαιτίας της σοσιαλιστικής του ιδεολογ
 ίας και δράσης στο κίνημα των Black Muslims κ
 αι του Rev.Ike, στις αρχές της δεκαετίας τ
 υ '60.\nΦεστιβάλ και περιοδείες με τους A
 lbert King, Johnny Winter, Rory Gallagher, Eric Burdon, με τον ο
 ποίο και συμπρωταγωνιστεί στην ταινία
  \"Comeback\" και καταλυτικές συνεργασίες μ
  τον John Lee Hooker και τον Jimmy Reed.\nΟ Louisiana Red 
 ίναι ένας μοναδικός φίλος για όσους τ
 ν γνώρισαν από κοντά - και είναι πολλο
  αυτοί στην Ελλάδα - και ένας ξεχωριστ
 ς και μεγάλος καλλιτέχνης.\nΟ Louisiana Red ε
 ίναι τα Blues!\nhttp://www.louisiana-red.com/index.php?id=2\n \
 n\nFor more information visit https://blues.gr/events/louisiana-red-bi
 rthday-tour-392
DTSTART;TZID=Europe/Athens:20110319T230000
DTEND;TZID=Europe/Athens:20110320T130000
CATEGORIES:blues
LOCATION:ΚΑΤΕΡΙΝΗ - SIN CITY με τους BLUES TRACKERS
WEBSITE:
URL:
CONTACT:
ORGANIZER;CN="JOHN ANGELATOS-Red Rooster Prod.":https://blues.gr/profi
 le/JohnAngelatos
ATTACH;FMTTYPE="image/jpeg":http://storage.ning.com/topology/rest/1.0/
 file/get/2252948672?profile=original
ATTENDEE;ROLE=REQ-PARTICIPANT;PARTSTAT=ACCEPTED;RSVP=TRUE;CN="JOHN ANG
 ELATOS-Red Rooster Prod.":https://blues.gr/profile/JohnAngelatos
END:VEVENT
END:VCALENDAR
