BEGIN:VCALENDAR
PRODID:NingEventWidget-v1
VERSION:2.0
METHOD:PUBLISH
BEGIN:VTIMEZONE
TZID:Europe/Athens
X-LIC-LOCATION:Europe/Athens
BEGIN:DAYLIGHT
TZOFFSETFROM:+0200
TZOFFSETTO:+0300
TZNAME:EEST
DTSTART:19700329T030000
RRULE:FREQ=YEARLY;BYMONTH=3;BYDAY=-1SU
END:DAYLIGHT
BEGIN:STANDARD
TZOFFSETFROM:+0300
TZOFFSETTO:+0200
TZNAME:EET
DTSTART:19701025T040000
RRULE:FREQ=YEARLY;BYMONTH=10;BYDAY=-1SU
END:STANDARD
END:VTIMEZONE
BEGIN:VEVENT
UID:1982923:Event:94754
DTSTAMP:20260421T200052Z
SUMMARY:LOUISIANA RED BIRTHDAY TOUR 2011
DESCRIPTION: \nLOUISIANA RED BIRTHDAY TOUR 2011\n\nO Louisiana Red, 
 ροσκεκλημένος της Red Rooster, επισκέπτετα
 ι την Ελλάδα από το 1987.\nΑποτελεί  χωρί
  αμφιβολία μία από τις  περισσότερο σ
 μαντικές  προσωπικότητες του μπλουζ, 
 έναν από τους τελευταίους αυθεντικούς
  legendary bluesmen.\nΚάθε χρόνο περιοδεύει ασ
 αμάτητα από  ήπειρο σε ήπειρο, τραγου
 ώντας τα δικά του βιώματα και ηχογραφ
 ντας τα σε άλμπουμ υψηλών προδιαγραφώ
 ν.\nΔεν είναι παράξενο ότι τόσο το ηλεκ
 ρικό του άλμπουμ “Back to the black bayou”, όσο 
 και το ακουστικό “You got to move” με τον πι
 νίστα David Maxwell, ανακηρύχθηκαν από το Blue
 s Foundation σαν τα καλύτερα του 2010 στις αντ
 στοιχες κατηγορίες.\nΟ ίδιος έχει δικα
 ιωθεί με το βραβείο W.C.Handy σαν ο καλύτε
 ρος παραδοσιακός καλλιτέχνης του μπλο
 υζ.\nΉδη στη χώρα μας υπάρχει ένα άλμπο
 μ του με τον Στέλιο Βαμβακάρη και ένα
  με τον Ζωρζ Πιλαλί, ενώ η συμμετοχή το
 υ στην παρουσίαση των Blue Evenings στο Μέ
 αρο Μουσικής το Δεκέμβριο του 1996 ήταν
  συγκλονιστική.\nΤα τραγούδια του Red εί
 αι τα καθρεφτίσματα της ζωής του.\nΓεν
 ιέται σα Iverson Minter στα 1932 στην Bessema, της A
 labama.\nΗ μητέρα του πεθαίνει μια βδομάδα
  μετά τη γέννα του, ενώ στα 1942  ο πατέρα
 ς του σκοτώνεται από την Ku-Klux-Klan.\nΟ Red μ
 γαλώνει σε ορφανοτροφείο, κοιμάται στ
 ους δρόμους και κλέβει για να ζήσει.\nΗ 
 αστυνομία που τον συλλαμβάνει τον βάζ
 ι στο δίλημμα φυλακή η στρατός και ο Red
  βρίσκεται να πολεμάει στη Κορέα, όπου 
 και τραυματίζεται.\nΗ μουσική του δρασ
 ηριότητα αρχίζει στα πρώτα χρόνια της
  δεκαετίας του '40,\nόταν πιτσιρικάς παί
 ζει φυσαρμόνικα και κιθάρα στους δρόμ
 υς για πενταροδεκάρες.\nΤο 1948 γνωρίζει
  τον Muddy Waters, ο οποίος γοητεύεται από 
 ον πεισματάρη δωδεκάχρονο ορφανό και 
 του μαθαίνει όλα όσα ξέρει, περιθάλπον
 τας τον σαν το πνευματικό του παιδί.\nΣ
 μερα, ο Louisiana Red είναι ο μοναδικός μουσ
 κός του μπλουζ που παίζει σλάιντ, όπως
  ακριβώς και ο Muddy.\nΣτη δεκαετία του '50
 αρχίζει να ηχογραφεί με το ψευδώνυμο C
 rying Red ή Playboy Fuller.                     
                                    
                                    
                                    
         Στη συνέχεια υιοθετεί το Louisiana
  Red, είτε λόγω της Ινδιάνικης καταγωγής
  του, είτε εξαιτίας της σοσιαλιστικής 
 ου ιδεολογίας και δράσης στο κίνημα τ
 ν Black Muslims και του Rev.Ike, στις αρχές της δ
 εκαετίας του '60.\nΦεστιβάλ και περιοδε
 ες με τους Albert King, Johnny Winter, Rory Gallagher,
 Eric Burdon, με τον οποίο και συμπρωταγωνι
 στεί στην ταινία \"Comeback\" και καταλυτικ
 ς συνεργασίες με τον John Lee Hooker και το
 νJimmy Reed.\nΟ Louisiana Red είναι ένας μοναδικό
  φίλος για όσους τον γνώρισαν από κοντ
 ά - και είναι πολλοί αυτοί στην Ελλάδα -
  και ένας ξεχωριστός και μεγάλος καλλι
 τέχνης.\nΟ Louisiana Red είναι τα Blues!\nhttp://www
 .louisiana-red.com/index.php?id=2\n\nFor more information visit https:
 //blues.gr/events/louisiana-red-birthday-tour-478
DTSTART;TZID=Europe/Athens:20110322T230000
DTEND;TZID=Europe/Athens:20110323T130000
CATEGORIES:blues
LOCATION:ΒΟΛΟΣ - CAFE SANTAN
WEBSITE:
URL:
CONTACT:
ORGANIZER;CN="JOHN ANGELATOS-Red Rooster Prod.":https://blues.gr/profi
 le/JohnAngelatos
ATTACH;FMTTYPE="image/jpeg":http://storage.ning.com/topology/rest/1.0/
 file/get/2252948672?profile=original
ATTENDEE;ROLE=REQ-PARTICIPANT;PARTSTAT=ACCEPTED;RSVP=TRUE;CN="JOHN ANG
 ELATOS-Red Rooster Prod.":https://blues.gr/profile/JohnAngelatos
END:VEVENT
END:VCALENDAR
