BEGIN:VCALENDAR
PRODID:NingEventWidget-v1
VERSION:2.0
METHOD:PUBLISH
BEGIN:VTIMEZONE
TZID:Europe/Athens
X-LIC-LOCATION:Europe/Athens
BEGIN:DAYLIGHT
TZOFFSETFROM:+0200
TZOFFSETTO:+0300
TZNAME:EEST
DTSTART:19700329T030000
RRULE:FREQ=YEARLY;BYMONTH=3;BYDAY=-1SU
END:DAYLIGHT
BEGIN:STANDARD
TZOFFSETFROM:+0300
TZOFFSETTO:+0200
TZNAME:EET
DTSTART:19701025T040000
RRULE:FREQ=YEARLY;BYMONTH=10;BYDAY=-1SU
END:STANDARD
END:VTIMEZONE
BEGIN:VEVENT
UID:1982923:Event:97232
DTSTAMP:20260421T195950Z
SUMMARY:LOUISIANA RED & BLUES TRACKERS
DESCRIPTION:O Louisiana Red, προσκεκλημένος της Red R
 ooster, επισκέπτεται την Ελλάδα από το 1987.
 Αποτελεί χωρίς αμφιβολία μία από τις π
 ερισσότερο σημαντικές προσωπικότητες
  του μπλουζ, έναν από τους τελευταίους 
 αυθεντικούς legendary bluesmen.Κάθε χρόνο περι
 οδεύει ασταμάτητα από ήπειρο σε ήπειρ
 , τραγουδώντας τα δικά του βιώματα και
  ηχογραφώντας τα σε άλμπουμ υψηλών προ
 διαγραφών.Δεν είναι παράξενο ότι τόσο 
 το ηλεκτρικό του άλμπουμ “Back to the black bay
 ou”, όσο και το ακουστικό “You got to move” μ
  τον πιανίστα David Maxwell, ανακηρύχθηκαν α
 πό το Blues Foundation σαν τα καλύτερα του 2010 σ
 τις αντίστοιχες κατηγορίες.Ο ίδιος έχ
 ι δικαιωθεί με το βραβείο W.C.Handy σαν ο κ
 αλύτερος παραδοσιακός καλλιτέχνης το
  μπλουζ.Ήδη στη χώρα μας υπάρχει ένα ά
 μπουμ του με τον Στέλιο Βαμβακάρη και 
 ένα με τον Ζωρζ Πιλαλί, ενώ η συμμετοχή
  του στην παρουσίαση των Blue Evenings στο Μέ
 γαρο Μουσικής το Δεκέμβριο του 1996 ήταν
  συγκλονιστική.Τα τραγούδια του Red είν
 ι τα καθρεφτίσματα της ζωής του.Γεννι
 ται σα Iverson Minter στα 1932 στην Bessema, της Alaba
 ma.Η μητέρα του πεθαίνει μια βδομάδα με
 ά τη γέννα του, ενώ στα 1942 ο πατέρας το
  σκοτώνεται από την Ku-Klux-Klan.Ο Red μεγαλώ
 ει σε ορφανοτροφείο, κοιμάται στους δ
 όμους και κλέβει για να ζήσει.Η αστυνο
 μία που τον συλλαμβάνει τον βάζει στο 
 ίλημμα φυλακή η στρατός και ο Red βρίσκ
 ται να πολεμάει στη Κορέα, όπου και τρ
 υματίζεται.Η μουσική του δραστηριότη
 α αρχίζει στα πρώτα χρόνια της δεκαετ
 ας του '40,όταν πιτσιρικάς παίζει φυσαρ
 μόνικα και κιθάρα στους δρόμους για πε
 νταροδεκάρες.Το 1948 γνωρίζει τον Muddy Water
 s, ο οποίος γοητεύεται από τον πεισματά
 ρη δωδεκάχρονο ορφανό και του μαθαίνε
  όλα όσα ξέρει, περιθάλποντας τον σαν 
 ο πνευματικό του παιδί.Σήμερα, ο Louisiana 
 Red είναι ο μοναδικός μουσικός του μπλο
 ζ που παίζει σλάιντ, όπως ακριβώς και 
  Muddy.Στη δεκαετία του '50 αρχίζει να ηχο
 ραφεί με το ψευδώνυμο Crying Red ή Playboy Fuller.
  Στη συνέχεια υιοθετεί το Louisiana Red, είτε
  λόγω της Ινδιάνικης καταγωγής του, εί
 ε εξαιτίας της σοσιαλιστικής του ιδεο
 λογίας και δράσης στο κίνημα των Black Musl
 ims και του Rev.Ike, στις αρχές της δεκαετία
 ς του '60.Φεστιβάλ και περιοδείες με του
 ς Albert King, Johnny Winter, Rory Gallagher, Eric Burdon, με το
  οποίο και συμπρωταγωνιστεί στην ταιν
 ία \"Comeback\" και καταλυτικές συνεργασίες
  με τον John Lee Hooker και τον Jimmy Reed.Ο Louisiana Red
  είναι ένας μοναδικός φίλος για όσους 
 ον γνώρισαν από κοντά - και είναι πολλ
 ί αυτοί στην Ελλάδα - και ένας ξεχωρισ
 ός και μεγάλος καλλιτέχνης.Ο Louisiana Red ε
 ίναι τα Blues!http://www.louisiana-red.com/index.php?id=2\n\nFor
  more information visit https://blues.gr/events/louisiana-red-blues-tr
 ackers-1
DTSTART;TZID=Europe/Athens:20110323T223000
DTEND;TZID=Europe/Athens:20110324T013000
CATEGORIES:concert
LOCATION:ΜΟΥΣΙΚΗ ΣΚΗΝΗ \"ΚΕΝΤΡΙΚΗ ΠΛΑΤΕΙΑ\"
WEBSITE:http://www.kentrikiplateia.gr/livedates.html
URL:http://www.kentrikiplateia.gr/livedates.html
CONTACT:6977580754
ORGANIZER;CN="Marios Spiliotopoulos":https://blues.gr/profile/MariosSp
 iliotopoulos
ATTACH;FMTTYPE="image/jpeg":http://storage.ning.com/topology/rest/1.0/
 file/get/2252949601?profile=original
ATTENDEE;ROLE=REQ-PARTICIPANT;PARTSTAT=ACCEPTED;RSVP=TRUE;CN="Marios S
 piliotopoulos":https://blues.gr/profile/MariosSpiliotopoulos
END:VEVENT
END:VCALENDAR
