BEGIN:VCALENDAR
PRODID:NingEventWidget-v1
VERSION:2.0
METHOD:PUBLISH
BEGIN:VTIMEZONE
TZID:Europe/Athens
X-LIC-LOCATION:Europe/Athens
BEGIN:DAYLIGHT
TZOFFSETFROM:+0200
TZOFFSETTO:+0300
TZNAME:EEST
DTSTART:19700329T030000
RRULE:FREQ=YEARLY;BYMONTH=3;BYDAY=-1SU
END:DAYLIGHT
BEGIN:STANDARD
TZOFFSETFROM:+0300
TZOFFSETTO:+0200
TZNAME:EET
DTSTART:19701025T040000
RRULE:FREQ=YEARLY;BYMONTH=10;BYDAY=-1SU
END:STANDARD
END:VTIMEZONE
BEGIN:VEVENT
UID:1982923:Event:96281
DTSTAMP:20260421T201951Z
SUMMARY:LOUISIANA RED & BLUES TRACKERS
DESCRIPTION:LOUISIANA RED για δεύτερη φορά στην Κα
 τερίνη!!!Βιογραφικό.O Louisiana Red γεννήθηκε
  στις 23 Μαρτίου 1932 και το ονομά του είν
 ι Iverson Minter. Είναι αμερικανός κιθαρίστα
 ς των blues, φοβερός γνώστης της φυσαρμόν
 ικας και τραγουδιστής, ο οποίος έχει κ
 ταγράψει περισσότερα από 50 άλμπουμ. Ε
 ναι γνωστός για το τραγούδι του \"Sweet Blo
 od Call\".Μετά από το στρατό, πέρασε δύο χρ
 νια στα τέλη της δεκαετίας του 1950, παί
 οντας με John Le...e Hooker στο Detroit.Ηχογράφησ
  για την Che...cker Records το 1952 το \"Rocky Fuller\"Το
  πρώτο του άλμπουμ το\" Lowdown Back Porch Blues\" γ
 ράφτηκε στη Νέα Υόρκη με τον Tommy Tucker κα
  κυκλοφόρησε το 1963.Το δεύτερο άλμπουμ 
 \"Seventh Son\" κυκλοφόρησε αργότερα το ίδιο 
 έτος.Ο Louisiana Red κυκλοφόρησε το single \"I'm Too
  Poor To Die\" το 1964. Αυτό κορυφώθηκε στη θέσ
  του Billboard Νο 117 και αργότερα στην θέση 
 30 των charts κατά τη διάρκεια του 1964.Ο Louisia
 na Red ζει την Blues μουσική μέσα από την κι
 άρα και το τραγούδι του. Με ισχυρές επ
 ρροές από τον Muddy Waters, τους Lightnin‘ Hopkins 
 αι Arthur Crudup, έχει βρει τη δική του φωνή, 
 το δικό του στυλ, το δικό του τρόπο να ε
 κφράζεται.Όταν ο Red παίζει, τα τραγούδι
 α του είναι μόνο το ενακτήριο λάκτισμα
  για να εκφράσει τα συναισθήματά του, κ
 ατά την παλιά παράδοση της αυθόρμητης 
 σύνθεσης.Σε μία καριέρα που εκτείνετα
  σε πάνω μισό αιώνα ο Louisiana Red έχει παίξ
 ει με κάθε σημαντικό bluesman που μπορεί κ
 νείς να φανταστεί, συμπεριλαμβανομέν
 ν των B.B.King και Muddy Waters.Τα albums του έχουν 
 χαρακτηριστεί αριστουργήματα από του
  κριτικούς. Το 1983 Ο Louisiana Red βραβεύθηκε 
 με το W.C. Handy Award ως ο καλύτερος καλλιτέχ
 νης της παραδοσιακής blues μουσικής.\n\nFor 
 more information visit https://blues.gr/events/louisiana-red-blues-tra
 ckers
DTSTART;TZID=Europe/Athens:20110319T223000
DTEND;TZID=Europe/Athens:20110320T011500
CATEGORIES:concert
LOCATION:SIN CITY
WEBSITE:
URL:
CONTACT:
ORGANIZER;CN="Marios Spiliotopoulos":https://blues.gr/profile/MariosSp
 iliotopoulos
ATTACH;FMTTYPE="image/jpeg":http://storage.ning.com/topology/rest/1.0/
 file/get/2252949851?profile=original
ATTENDEE;ROLE=REQ-PARTICIPANT;PARTSTAT=ACCEPTED;RSVP=TRUE;CN="Marios S
 piliotopoulos":https://blues.gr/profile/MariosSpiliotopoulos
END:VEVENT
END:VCALENDAR
