BEGIN:VCALENDAR
PRODID:NingEventWidget-v1
VERSION:2.0
METHOD:PUBLISH
BEGIN:VTIMEZONE
TZID:Europe/Athens
X-LIC-LOCATION:Europe/Athens
BEGIN:DAYLIGHT
TZOFFSETFROM:+0200
TZOFFSETTO:+0300
TZNAME:EEST
DTSTART:19700329T030000
RRULE:FREQ=YEARLY;BYMONTH=3;BYDAY=-1SU
END:DAYLIGHT
BEGIN:STANDARD
TZOFFSETFROM:+0300
TZOFFSETTO:+0200
TZNAME:EET
DTSTART:19701025T040000
RRULE:FREQ=YEARLY;BYMONTH=10;BYDAY=-1SU
END:STANDARD
END:VTIMEZONE
BEGIN:VEVENT
UID:1982923:Event:120919
DTSTAMP:20260423T052712Z
SUMMARY:LOUISIANA RED & BLUES WIRE
DESCRIPTION:O Louisiana Red, αποτελεί χωρίς αμφιβο
 ία μία από τις περισσότερο σημαντικές
  προσωπικότητες του μπλουζ, έναν από τ
 υς τελευταίους αυθεντικούς legendary bluesmen
 . Κάθε χρόνο περιοδεύει ασταμάτητα απ
  ήπειρο σε ήπειρο, τραγουδώντας τα δικ
 ά του βιώματα και ηχογραφώντας τα σε ά
 μπουμ υψηλών προδιαγραφών. Δεν είναι 
 αράξενο ότι τόσο το ηλεκτρικό του άλμ
 ουμ “Back to the black bayou”, όσο και το ακουστ
 ικό “You got to move” με τον πιανίστα David Maxwel
 l, ανακηρύχθηκαν από το Blues Foundation σαν τα
  καλύτερα του 2010 στις αντίστοιχες κατη
 γορίες. Η μουσική του δραστηριότητα αρ
 χίζει στα πρώτα χρόνια της δεκαετίας τ
 ου '40, όταν πιτσιρικάς παίζει φυσαρμόν
 κα και κιθάρα στους δρόμους για πεντα
 οδεκάρες.Το 1948 γνωρίζει τον Muddy Waters, ο 
 ποίος γοητεύεται από τον πεισματάρη δ
 ωδεκάχρονο ορφανό και του μαθαίνει όλ
  όσα ξέρει, περιθάλποντας τον σαν το π
 ευματικό του παιδί. Σήμερα, ο Louisiana Red ε
 ίναι ο μοναδικός μουσικός του μπλουζ π
 ου παίζει σλάιντ, όπως ακριβώς και ο Mudd
 y. Στη δεκαετία του '50 αρχίζει να ηχογρα
 φεί με το ψευδώνυμο Crying Red ή Playboy Fuller. Στ
 η συνέχεια υιοθετεί το Louisiana Red, είτε λό
 γω της Ινδιάνικης καταγωγής του, είτε 
 ξαιτίας της σοσιαλιστικής του ιδεολο
 ίας και δράσης στο κίνημα των Black Muslims 
 αι του Rev.Ike, στις αρχές της δεκαετίας τ
 ου '60. Ο Louisiana Red είναι ένας μοναδικός φί
 λος για όσους τον γνώρισαν από κοντά - 
 αι είναι πολλοί αυτοί στην Ελλάδα - κα
  ένας ξεχωριστός και μεγάλος καλλιτέχ
 νης. Μαζί του στο PassPort οι Blues Wire. Ξεκιν
 ντας την πορεία τους στο χώρο του blues σ
 τα 1983, οι Blues Wire βαδίζουν ήδη στην τρίτη
  δεκαετία τους, γεγονός πολύ σπάνιο γι
  ελληνικό συγκρότημα, με αμέτρητες συ
 αυλίες εντός και εκτός Ελλάδος, εννέα 
 άλμπουμ στη δισκογραφία τους και τον τ
 ίτλο μιας από τις καλύτερες blues bands στη
  Ευρώπη.\n \n \n \n \n \n\n\nFor more information visit ht
 tps://blues.gr/events/louisiana-red-blues-wire-1
DTSTART;TZID=Europe/Athens:20111112T230000
DTEND;TZID=Europe/Athens:20111113T130000
CATEGORIES:electric, blues
LOCATION:PASSPORT
WEBSITE:
URL:
CONTACT:210-4296401
ORGANIZER:PASSPORT
ATTACH;FMTTYPE="image/jpeg":http://storage.ning.com/topology/rest/1.0/
 file/get/2252961751?profile=original
ATTENDEE;ROLE=REQ-PARTICIPANT;PARTSTAT=ACCEPTED;RSVP=TRUE;CN="JOHN ANG
 ELATOS-Red Rooster Prod.":https://blues.gr/profile/JohnAngelatos
END:VEVENT
END:VCALENDAR
